BEGIN:VCALENDAR
VERSION:2.0
PRODID:-//Cultura Río Cuarto - ECPv6.15.20//NONSGML v1.0//EN
CALSCALE:GREGORIAN
METHOD:PUBLISH
X-WR-CALNAME:Cultura Río Cuarto
X-ORIGINAL-URL:https://cultura.riocuarto.gob.ar
X-WR-CALDESC:Eventos para Cultura Río Cuarto
REFRESH-INTERVAL;VALUE=DURATION:PT1H
X-Robots-Tag:noindex
X-PUBLISHED-TTL:PT1H
BEGIN:VTIMEZONE
TZID:America/Argentina/Cordoba
BEGIN:STANDARD
TZOFFSETFROM:-0300
TZOFFSETTO:-0300
TZNAME:-03
DTSTART:20240101T000000
END:STANDARD
END:VTIMEZONE
BEGIN:VEVENT
DTSTART;VALUE=DATE:20250912
DTEND;VALUE=DATE:20250914
DTSTAMP:20260422T100234
CREATED:20250910T125928Z
LAST-MODIFIED:20250910T130013Z
UID:8887-1757635200-1757807999@cultura.riocuarto.gob.ar
SUMMARY:ROCK x 2 EN EL OJO
DESCRIPTION:Este fin de semana\, doble propuesta rockera en C.C. Ojo de Barro (Bolívar 373). \nViernes 12 de septiembre. 22hs. Anticipadas: $6000 \nTocan en vivo bandas La Doble Problema\, La Ciudadela y La Goudard. \n \nSábado 13 de septiembre. 22hs. Anticipadas: $5000 \nSe presentan en vivo las bandas Piano Súbito\, Oxido\, The Freak y Los Flacos de Kosh.
URL:https://cultura.riocuarto.gob.ar/event/rock-x-2-en-el-ojo-4/
CATEGORIES:OJO DE BARRO
ATTACH;FMTTYPE=image/jpeg:https://cultura.riocuarto.gob.ar/wp-content/uploads/2025/09/Ojo-saba-e1757509162859.jpeg
END:VEVENT
BEGIN:VEVENT
DTSTART;VALUE=DATE:20250912
DTEND;VALUE=DATE:20250915
DTSTAMP:20260422T100234
CREATED:20250903T132420Z
LAST-MODIFIED:20250903T132420Z
UID:8809-1757635200-1757894399@cultura.riocuarto.gob.ar
SUMMARY:VIII FESTIVAL DE COROS JUVENILES 
DESCRIPTION:Del viernes 12 al domingo 14 de septiembre. Teatro Municipal. Entrada gral. $8000. Abono para los tres días: $16000 o 3x 2 para las 3 noches. \nSe realiza la octava edición del Festival de Coros Juveniles\, con la siguiente programación: \nViernes 12. 21hs. \nConcierto de apertura. Actuación de Coros locales: \nCoro de nuevas voces del Instituto San Buenaventura. Dir. Verónica Cambón. \nCoro Infanto Juvenil del Colegio La Merced. Dir. Daniela Renaudo. \nCoro de Profesorado del Conservatorio Julián Aguirre. Dir. Gualpa-Noroña-Cazzola. \nSábado 13. 20hs. \nConcierto central-Coros que visitan nuestra ciudad: \nCoro Provincial de Jóvenes de La Rioja. Dir. Mariana Polo. \nCoro Juvenil de la Escuela de Comercio de Maipú. Dir. Gonzalo Villalba. \nCoro Femenino de la Escuela de Magisterio\, Mendoza. Dir. Liliana Sánchez. \nDomingo 14. 19hs. \nConcierto de cierre-Masa Coral del taller de Musicales. \nIntegrantes de coros invitados junto al Coro Juvenil Municipal. Dir. Luciana Cazzola. \nMaestro invitado: Juan Ignacio Noroña.
URL:https://cultura.riocuarto.gob.ar/event/viii-festival-de-coros-juveniles/
CATEGORIES:TEATRO MUNICIPAL
ATTACH;FMTTYPE=image/png:https://cultura.riocuarto.gob.ar/wp-content/uploads/2025/09/coroJuvenil-e1756905842511.png
END:VEVENT
BEGIN:VEVENT
DTSTART;VALUE=DATE:20250913
DTEND;VALUE=DATE:20250914
DTSTAMP:20260422T100234
CREATED:20250908T124031Z
LAST-MODIFIED:20250908T124031Z
UID:8838-1757721600-1757807999@cultura.riocuarto.gob.ar
SUMMARY:SÁBADOS DE VINILOS
DESCRIPTION:Sábado 13 de septiembre. Galpón Blanco del Andino. De 15.30 a 20.30hs. Entrada gratuita. \nSe realiza la 19 edición de la ya clásica Feria de Vinilos\, cd’s\, cassettes\, dvd´s\, revistas\, posters\, accesorios\, sets de vinilo y mucho más.       Acompañan Dulce Vibra Pastelería y Sabores Argentinos.
URL:https://cultura.riocuarto.gob.ar/event/sabados-de-vinilos/
CATEGORIES:GALPÓN BLANCO. C.C ANDINO
ATTACH;FMTTYPE=image/jpeg:https://cultura.riocuarto.gob.ar/wp-content/uploads/2025/09/Vinilos-e1757335224687.jpg
END:VEVENT
BEGIN:VEVENT
DTSTART;VALUE=DATE:20250913
DTEND;VALUE=DATE:20250914
DTSTAMP:20260422T100234
CREATED:20250908T161609Z
LAST-MODIFIED:20250908T161609Z
UID:8848-1757721600-1757807999@cultura.riocuarto.gob.ar
SUMMARY:LA NOCHE DEL CUARTETO
DESCRIPTION:Sábado 13 de septiembre. Viejo Mercado. 19.30hs. Entrada gral. $6000 \nSe realiza el evento organizado por Centro de Día Proyectar\, que tiene por finalidad realizar la recaudación del Proyecto “Conociendo Lugares” que tiene por objetivo que 17 concurrentes de la institución puedan conocer los diferentes puntos turísticos de nuestra provincia. Además\, el mismo tiene una antigüedad de cuatro años consecutivos.
URL:https://cultura.riocuarto.gob.ar/event/la-noche-del-cuarteto/
CATEGORIES:VIEJO MERCADO
ATTACH;FMTTYPE=image/png:https://cultura.riocuarto.gob.ar/wp-content/uploads/2025/09/Cuarteto-e1757348161863.png
END:VEVENT
END:VCALENDAR