BEGIN:VCALENDAR
VERSION:2.0
PRODID:-//Cultura Río Cuarto - ECPv6.15.20//NONSGML v1.0//EN
CALSCALE:GREGORIAN
METHOD:PUBLISH
X-ORIGINAL-URL:https://cultura.riocuarto.gob.ar
X-WR-CALDESC:Eventos para Cultura Río Cuarto
REFRESH-INTERVAL;VALUE=DURATION:PT1H
X-Robots-Tag:noindex
X-PUBLISHED-TTL:PT1H
BEGIN:VTIMEZONE
TZID:America/Argentina/Cordoba
BEGIN:STANDARD
TZOFFSETFROM:-0300
TZOFFSETTO:-0300
TZNAME:-03
DTSTART:20240101T000000
END:STANDARD
END:VTIMEZONE
BEGIN:VEVENT
DTSTART;VALUE=DATE:20251011
DTEND;VALUE=DATE:20251012
DTSTAMP:20260422T102546
CREATED:20250925T143559Z
LAST-MODIFIED:20250925T143559Z
UID:9134-1760140800-1760227199@cultura.riocuarto.gob.ar
SUMMARY:GRUPO VOCAL CUCHICHEROS: AMPLIANDO LOS CONFINES
DESCRIPTION:Sábado 11 de octubre. Teatrino de la Trapalanda. 21hs. Entrada gral. $10.000 \nEl grupo vocal Cuchicheros presenta su nuevo disco Ampliando los confines-músicas del Qhapaq Ñan\, un proyecto que nace del deseo de explorar las huellas sonoras del Camino del Inca y las múltiples identidades que lo atraviesan. Lo integran María Carranza\, Noelia Reartes\, Melisa Alvarez\, Mauricio Martínez\, Gabriel Alejandro Campos Amaya y Juan Manuel Brarda. Formado en 2013 y bajo la dirección de Juan Manuel Brarda\, Cuchicheros trabaja sobre arreglos vocales contemporáneos que dialogan con la música popular argentina y latinoamericana. A lo largo de su recorrido han editado Confines – versiones a la distancia (2020) y han llevado su propuesta a escenarios de Argentina y España. Este nuevo trabajo reúne obras de Gustavo Leguizamón\, Bruno Arias\, Pachi Herrera y Víctor Heredia\, entre otros\, en versiones originales para seis voces. Con sensibilidad y búsqueda\, el grupo propone un viaje musical que enlaza tradición y presente\, memoria y territorio\, en una experiencia íntima y colectiva.
URL:https://cultura.riocuarto.gob.ar/event/grupo-vocal-cuchicheros-ampliando-los-confines/
CATEGORIES:TEATRINO
ATTACH;FMTTYPE=image/jpeg:https://cultura.riocuarto.gob.ar/wp-content/uploads/2025/09/CONFINES_FEDD-e1758810950284.jpg
END:VEVENT
BEGIN:VEVENT
DTSTART;VALUE=DATE:20251011
DTEND;VALUE=DATE:20251012
DTSTAMP:20260422T102546
CREATED:20251007T160122Z
LAST-MODIFIED:20251008T142357Z
UID:9323-1760140800-1760227199@cultura.riocuarto.gob.ar
SUMMARY:ROCK EN EL OJO
DESCRIPTION:Este sábado 11 de octubre a las 22hs. en C.C. Ojo de Barro (Bolívar 373)\, se realiza el Underfestival Río Cuarto con las actuaciones en vivo de las bandas Los Yaders\, Indosil\, Endome (Gral. Deheza) y Síndrome de Korsakoff. Anticipadas $5000.
URL:https://cultura.riocuarto.gob.ar/event/rock-en-el-ojo-9/
CATEGORIES:OJO DE BARRO
ATTACH;FMTTYPE=image/jpeg:https://cultura.riocuarto.gob.ar/wp-content/uploads/2025/10/Ojo-sab-1-e1759933425679.jpeg
END:VEVENT
END:VCALENDAR