BEGIN:VCALENDAR
VERSION:2.0
PRODID:-//Cultura Río Cuarto - ECPv6.15.20//NONSGML v1.0//EN
CALSCALE:GREGORIAN
METHOD:PUBLISH
X-ORIGINAL-URL:https://cultura.riocuarto.gob.ar
X-WR-CALDESC:Eventos para Cultura Río Cuarto
REFRESH-INTERVAL;VALUE=DURATION:PT1H
X-Robots-Tag:noindex
X-PUBLISHED-TTL:PT1H
BEGIN:VTIMEZONE
TZID:America/Argentina/Cordoba
BEGIN:STANDARD
TZOFFSETFROM:-0300
TZOFFSETTO:-0300
TZNAME:-03
DTSTART:20240101T000000
END:STANDARD
END:VTIMEZONE
BEGIN:VEVENT
DTSTART;VALUE=DATE:20251017
DTEND;VALUE=DATE:20251019
DTSTAMP:20260422T102553
CREATED:20251014T153034Z
LAST-MODIFIED:20251014T153414Z
UID:9483-1760659200-1760831999@cultura.riocuarto.gob.ar
SUMMARY:ROCK X 2 EN EL OJO
DESCRIPTION:Este fin de semana doble propuesta rockera en el C.C. Ojo de Barro (Bolívar 373): \nViernes 17 de octubre a las 22hs. tocan en vivo de las bandas Volárbol\, Vinilo Club\, Manta Raya y Reyna Calavera. Anticipadas $5000. \nSábado 18 de octubre a las 22hs. se realiza el evento Cría Undergrones y Prophecy Quimeras Vol. VIII\, con las actuaciones de Lenguaje de Víboras (Cba)\, Súper Quercus.
URL:https://cultura.riocuarto.gob.ar/event/rock-x-2-en-el-ojo-7/
CATEGORIES:OJO DE BARRO
ATTACH;FMTTYPE=image/jpeg:https://cultura.riocuarto.gob.ar/wp-content/uploads/2025/10/Ojo-sab-2-e1760455828914.jpeg
END:VEVENT
BEGIN:VEVENT
DTSTART;VALUE=DATE:20251018
DTEND;VALUE=DATE:20251019
DTSTAMP:20260422T102553
CREATED:20251014T152037Z
LAST-MODIFIED:20251014T152037Z
UID:9477-1760745600-1760831999@cultura.riocuarto.gob.ar
SUMMARY:16ª EDICIÓN MILONGA DEL RIEL
DESCRIPTION:Sábado 18 de octubre. Galpón Blanco del Andino. 22hs. Consultas 3584187239 \nSe realiza la 16ª edición del exitoso ciclo tanguero con la presentación de Susana Schwartz y Tdj Pablo Altamira. Esmerado servicio de cantina. \nAntes de la Milonga se realizará Seminarios Especiales de Tango Salón a cargo de Susana Schwartz. Cronograma: 17hs. Primer seminario: Contraste de tono y dinámica en el abrazo.  18.30hs. Segundo seminario: Ganchos reales en acentos musicales.  Docentes: Susana Schwartz y Pablo Altamira. Consultas e inscripciones 358 4187239. Cupos limitados.
URL:https://cultura.riocuarto.gob.ar/event/16a-edicion-milonga-del-riel/
CATEGORIES:GALPÓN BLANCO. C.C ANDINO
ATTACH;FMTTYPE=image/png:https://cultura.riocuarto.gob.ar/wp-content/uploads/2025/10/Milonga-octubre-e1760455228863.png
END:VEVENT
END:VCALENDAR