BEGIN:VCALENDAR
VERSION:2.0
PRODID:-//Cultura Río Cuarto - ECPv6.15.20//NONSGML v1.0//EN
CALSCALE:GREGORIAN
METHOD:PUBLISH
X-ORIGINAL-URL:https://cultura.riocuarto.gob.ar
X-WR-CALDESC:Eventos para Cultura Río Cuarto
REFRESH-INTERVAL;VALUE=DURATION:PT1H
X-Robots-Tag:noindex
X-PUBLISHED-TTL:PT1H
BEGIN:VTIMEZONE
TZID:America/Argentina/Cordoba
BEGIN:STANDARD
TZOFFSETFROM:-0300
TZOFFSETTO:-0300
TZNAME:-03
DTSTART:20240101T000000
END:STANDARD
END:VTIMEZONE
BEGIN:VEVENT
DTSTART;VALUE=DATE:20251024
DTEND;VALUE=DATE:20251025
DTSTAMP:20260422T162827
CREATED:20251020T162226Z
LAST-MODIFIED:20251020T162226Z
UID:9585-1761264000-1761350399@cultura.riocuarto.gob.ar
SUMMARY:PEÑA DE LA RAÍZ AL CORAZÓN
DESCRIPTION:Viernes 24 de octubre. Galpón Blanco del Andino. 21hs. Entrada gratuita. \nEn la continuidad del ciclo folklórico\, se presenta el conjunto musical La Quimera (integrado por Marcos Leonarduzzi\,  Juan Bustamante\, Nahuel Cisneros\, Mateo Abalo y Renzo Rodríguez)\, Peñeros Libres y danzas a cargo de Leandro Elizondo y Florencia Alcaraz.
URL:https://cultura.riocuarto.gob.ar/event/pena-de-la-raiz-al-corazon-6/
CATEGORIES:GALPÓN BLANCO. C.C ANDINO
ATTACH;FMTTYPE=image/png:https://cultura.riocuarto.gob.ar/wp-content/uploads/2025/10/feed_pena--e1760977337875.png
END:VEVENT
BEGIN:VEVENT
DTSTART;VALUE=DATE:20251024
DTEND;VALUE=DATE:20251025
DTSTAMP:20260422T162827
CREATED:20251022T124045Z
LAST-MODIFIED:20251022T124045Z
UID:9589-1761264000-1761350399@cultura.riocuarto.gob.ar
SUMMARY:ROCK X EN EL OJO
DESCRIPTION:Este viernes 24 de octubre a las 22hs en el C.C. Ojo de Barro (Bolívar 373) tocan en vivo Rocket Jam\, Fin del Mar (Cba)\, Tío Pucho y los nigromantes (debut) y Cristian Sánchez (TresVentanas). Anticipadas $6000.
URL:https://cultura.riocuarto.gob.ar/event/rock-x-en-el-ojo/
CATEGORIES:OJO DE BARRO
ATTACH;FMTTYPE=image/jpeg:https://cultura.riocuarto.gob.ar/wp-content/uploads/2025/10/Ojo-viernes-e1761136831732.jpg
END:VEVENT
END:VCALENDAR