BEGIN:VCALENDAR
VERSION:2.0
PRODID:-//Cultura Río Cuarto - ECPv6.15.20//NONSGML v1.0//EN
CALSCALE:GREGORIAN
METHOD:PUBLISH
X-ORIGINAL-URL:https://cultura.riocuarto.gob.ar
X-WR-CALDESC:Eventos para Cultura Río Cuarto
REFRESH-INTERVAL;VALUE=DURATION:PT1H
X-Robots-Tag:noindex
X-PUBLISHED-TTL:PT1H
BEGIN:VTIMEZONE
TZID:America/Argentina/Cordoba
BEGIN:STANDARD
TZOFFSETFROM:-0300
TZOFFSETTO:-0300
TZNAME:-03
DTSTART:20240101T000000
END:STANDARD
END:VTIMEZONE
BEGIN:VEVENT
DTSTART;VALUE=DATE:20251128
DTEND;VALUE=DATE:20251129
DTSTAMP:20260422T085240
CREATED:20251126T143111Z
LAST-MODIFIED:20251126T143111Z
UID:10626-1764288000-1764374399@cultura.riocuarto.gob.ar
SUMMARY:PEÑA DE LA RAÍZ AL CORAZÓN
DESCRIPTION:Viernes 28 de noviembre. Galpón Blanco del Andino. 21hs. Entrada gratuita \nEn la continuidad de la peña folklórica se presentan Silvina Chialvo\, Limón Reinoso El trovador y en danzas Leandro Elizondo y Florencia Alcaraz. Músicos invitados. Esmerado servicio de cantina
URL:https://cultura.riocuarto.gob.ar/event/pena-de-la-raiz-al-corazon-9/
CATEGORIES:GALPÓN BLANCO. C.C ANDINO
ATTACH;FMTTYPE=image/jpeg:https://cultura.riocuarto.gob.ar/wp-content/uploads/2025/11/De-la-raiz-e1764167437661.jpeg
END:VEVENT
END:VCALENDAR