BEGIN:VCALENDAR
VERSION:2.0
PRODID:-//Cultura Río Cuarto - ECPv6.15.20//NONSGML v1.0//EN
CALSCALE:GREGORIAN
METHOD:PUBLISH
X-WR-CALNAME:Cultura Río Cuarto
X-ORIGINAL-URL:https://cultura.riocuarto.gob.ar
X-WR-CALDESC:Eventos para Cultura Río Cuarto
REFRESH-INTERVAL;VALUE=DURATION:PT1H
X-Robots-Tag:noindex
X-PUBLISHED-TTL:PT1H
BEGIN:VTIMEZONE
TZID:America/Argentina/Cordoba
BEGIN:STANDARD
TZOFFSETFROM:-0300
TZOFFSETTO:-0300
TZNAME:-03
DTSTART:20240101T000000
END:STANDARD
END:VTIMEZONE
BEGIN:VEVENT
DTSTART;VALUE=DATE:20251204
DTEND;VALUE=DATE:20251205
DTSTAMP:20260422T054910
CREATED:20251201T162512Z
LAST-MODIFIED:20251201T162512Z
UID:10654-1764806400-1764892799@cultura.riocuarto.gob.ar
SUMMARY:LA GUL ROCKHOUSE
DESCRIPTION:Jueves 4 de diciembre. Teatrino de la Trapalanda. 20.30hs. Entrada gral. $12.000 \nLa academia de música local presenta la Audición de Fin de Año. \n“Audición de estudiantes de La Gul Rockhouse\, una invitación a ser parte de un concierto lleno de emociones\, dónde la música nos une y nos llena de energía para seguir aprendiendo y creando”.
URL:https://cultura.riocuarto.gob.ar/event/la-gul-rockhouse/
CATEGORIES:TEATRINO
ATTACH;FMTTYPE=image/jpeg:https://cultura.riocuarto.gob.ar/wp-content/uploads/2025/12/La-Gul-e1764606305390.jpg
END:VEVENT
END:VCALENDAR