BEGIN:VCALENDAR
VERSION:2.0
PRODID:-//Cultura Río Cuarto - ECPv6.15.20//NONSGML v1.0//EN
CALSCALE:GREGORIAN
METHOD:PUBLISH
X-ORIGINAL-URL:https://cultura.riocuarto.gob.ar
X-WR-CALDESC:Eventos para Cultura Río Cuarto
REFRESH-INTERVAL;VALUE=DURATION:PT1H
X-Robots-Tag:noindex
X-PUBLISHED-TTL:PT1H
BEGIN:VTIMEZONE
TZID:America/Argentina/Cordoba
BEGIN:STANDARD
TZOFFSETFROM:-0300
TZOFFSETTO:-0300
TZNAME:-03
DTSTART:20240101T000000
END:STANDARD
END:VTIMEZONE
BEGIN:VEVENT
DTSTART;VALUE=DATE:20251213
DTEND;VALUE=DATE:20251214
DTSTAMP:20260422T162317
CREATED:20251204T152322Z
LAST-MODIFIED:20251204T152322Z
UID:10698-1765584000-1765670399@cultura.riocuarto.gob.ar
SUMMARY:MILONGA DEL RIEL
DESCRIPTION:Sábado 13 de diciembre. Galpón Blanco del Andino. 23hs. Anticipadas: 3585133454-358 4865253. Consultas 3584187239 \nEn el marco de los festejos por el Día Nacional del tango se realiza la última Milonga del año\, en su edición número 18. Estarán presentes los elencos de tango de la UNRC y del Instituto Vitillo Abalos. Docentes: Delvis Iglesias\, Luciana Mussi y Fabián Giusiano. Tdj Gabriel La Rosa. Coordina: Laureano Cobos. Esmerado Servicio de cantina.
URL:https://cultura.riocuarto.gob.ar/event/milonga-del-riel-7/
CATEGORIES:GALPÓN BLANCO. C.C ANDINO
ATTACH;FMTTYPE=image/png:https://cultura.riocuarto.gob.ar/wp-content/uploads/2025/12/Milonga-e1764861767929.png
END:VEVENT
BEGIN:VEVENT
DTSTART;VALUE=DATE:20251213
DTEND;VALUE=DATE:20251214
DTSTAMP:20260422T162317
CREATED:20251209T161444Z
LAST-MODIFIED:20251209T161444Z
UID:10823-1765584000-1765670399@cultura.riocuarto.gob.ar
SUMMARY:MILONGA DEL RIEL
DESCRIPTION:Sábado 13 de diciembre. Galpón Blanco del Andino. 23hs. Anticipadas: 3585133454-358 4865253. Consultas 3584187239 \nEn el marco de los festejos por el Día Nacional del tango se realiza la última Milonga del año\, en su edición número 18. Estarán presentes los elencos de tango de la UNRC y del Instituto Vitillo Abalos. Docentes: Delvis Iglesias\, Luciana Mussi y Fabián Giusiano. Tdj Gabriel La Rosa. Coordina: Laureano Cobos. Esmerado Servicio de cantina.
URL:https://cultura.riocuarto.gob.ar/event/milonga-del-riel-8/
CATEGORIES:GALPÓN BLANCO. C.C ANDINO
ATTACH;FMTTYPE=image/jpeg:https://cultura.riocuarto.gob.ar/wp-content/uploads/2025/12/b8f76d13-582c-4c57-9e08-be38e500c4bc-e1765296875936.jpg
END:VEVENT
END:VCALENDAR