BEGIN:VCALENDAR
VERSION:2.0
PRODID:-//Cultura Río Cuarto - ECPv6.15.20//NONSGML v1.0//EN
CALSCALE:GREGORIAN
METHOD:PUBLISH
X-ORIGINAL-URL:https://cultura.riocuarto.gob.ar
X-WR-CALDESC:Eventos para Cultura Río Cuarto
REFRESH-INTERVAL;VALUE=DURATION:PT1H
X-Robots-Tag:noindex
X-PUBLISHED-TTL:PT1H
BEGIN:VTIMEZONE
TZID:America/Argentina/Cordoba
BEGIN:STANDARD
TZOFFSETFROM:-0300
TZOFFSETTO:-0300
TZNAME:-03
DTSTART:20240101T000000
END:STANDARD
END:VTIMEZONE
BEGIN:VEVENT
DTSTART;VALUE=DATE:20251214
DTEND;VALUE=DATE:20251215
DTSTAMP:20260422T085230
CREATED:20251204T151810Z
LAST-MODIFIED:20251204T151810Z
UID:10695-1765670400-1765756799@cultura.riocuarto.gob.ar
SUMMARY:PENTAGRAMA
DESCRIPTION:Domingo 14 de diciembre. Teatrino de la Trapalanda. 21hs. Entrada general $10.000. \nPresentación de la muestra anual de Pentagrama\, Escuela de Tecladistas y Pianistas. Profesor y director Daniel Requena.
URL:https://cultura.riocuarto.gob.ar/event/pentagrama/
CATEGORIES:TEATRINO
ATTACH;FMTTYPE=image/jpeg:https://cultura.riocuarto.gob.ar/wp-content/uploads/2025/12/PENTAGRAMA-e1764861475966.jpg
END:VEVENT
END:VCALENDAR