BEGIN:VCALENDAR
VERSION:2.0
PRODID:-//Cultura Río Cuarto - ECPv6.15.20//NONSGML v1.0//EN
CALSCALE:GREGORIAN
METHOD:PUBLISH
X-ORIGINAL-URL:https://cultura.riocuarto.gob.ar
X-WR-CALDESC:Eventos para Cultura Río Cuarto
REFRESH-INTERVAL;VALUE=DURATION:PT1H
X-Robots-Tag:noindex
X-PUBLISHED-TTL:PT1H
BEGIN:VTIMEZONE
TZID:America/Argentina/Cordoba
BEGIN:STANDARD
TZOFFSETFROM:-0300
TZOFFSETTO:-0300
TZNAME:-03
DTSTART:20240101T000000
END:STANDARD
END:VTIMEZONE
BEGIN:VEVENT
DTSTART;VALUE=DATE:20251217
DTEND;VALUE=DATE:20251218
DTSTAMP:20260422T222339
CREATED:20251215T184822Z
LAST-MODIFIED:20251215T184843Z
UID:10877-1765929600-1766015999@cultura.riocuarto.gob.ar
SUMMARY:ESCUELA DE BATERÍA HERNÁN TENREYRO
DESCRIPTION:Miércoles 17 de diciembre. Teatrino de la Trapalanda. 21hs. Entrada gral. $9.000.\nMuestra anual de los alumnos de la escuela de música local.
URL:https://cultura.riocuarto.gob.ar/event/escuela-de-bateria-hernan-tenreyro-2/
CATEGORIES:TEATRINO
ATTACH;FMTTYPE=image/jpeg:https://cultura.riocuarto.gob.ar/wp-content/uploads/2025/12/1000606922-e1765824513144.jpg
END:VEVENT
BEGIN:VEVENT
DTSTART;VALUE=DATE:20251217
DTEND;VALUE=DATE:20251218
DTSTAMP:20260422T222339
CREATED:20251215T185048Z
LAST-MODIFIED:20251215T185048Z
UID:10879-1765929600-1766015999@cultura.riocuarto.gob.ar
SUMMARY:NOTA LIBRE
DESCRIPTION:Miércoles 17 de diciembre. Viejo Mercado. 20hs. Entrada gral. $12.000\nAudición de la escuela de música local. “El espectáculo reunirá a diversos ensambles formados\npor estudiantes de la escuela\, quienes ofrecerán un recorrido por unas treinta obras\ncuidadosamente preparadas a lo largo del año”.
URL:https://cultura.riocuarto.gob.ar/event/nota-libre-4/
ATTACH;FMTTYPE=image/jpeg:https://cultura.riocuarto.gob.ar/wp-content/uploads/2025/12/1000606923-e1765824581328.jpg
END:VEVENT
END:VCALENDAR