BEGIN:VCALENDAR
VERSION:2.0
PRODID:-//Cultura Río Cuarto - ECPv6.15.20//NONSGML v1.0//EN
CALSCALE:GREGORIAN
METHOD:PUBLISH
X-WR-CALNAME:Cultura Río Cuarto
X-ORIGINAL-URL:https://cultura.riocuarto.gob.ar
X-WR-CALDESC:Eventos para Cultura Río Cuarto
REFRESH-INTERVAL;VALUE=DURATION:PT1H
X-Robots-Tag:noindex
X-PUBLISHED-TTL:PT1H
BEGIN:VTIMEZONE
TZID:America/Argentina/Cordoba
BEGIN:STANDARD
TZOFFSETFROM:-0300
TZOFFSETTO:-0300
TZNAME:-03
DTSTART:20250101T000000
END:STANDARD
END:VTIMEZONE
BEGIN:VEVENT
DTSTART;VALUE=DATE:20260424
DTEND;VALUE=DATE:20260426
DTSTAMP:20260423T021754
CREATED:20260422T123114Z
LAST-MODIFIED:20260422T123114Z
UID:12094-1776988800-1777161599@cultura.riocuarto.gob.ar
SUMMARY:OJO DE BARRO X 2
DESCRIPTION:Doble propuesta rockera en el C.C. Ojo de Barro (Bolívar 373): \nEste viernes 24 de abril a las 22hs. tocan en vivo las bandas La Skaravana\, Capitán Ruin\, Volárbol y Farsantes. Anticipadas: $6000. \n \nEste sábado 25 de abril a las 22hs. se realiza el recital Cria Quimeras Vol. X con las bandas Eterna Agonía (Cba)\, Super Quercus\, Rabia Anekekea y Coper Coil. Anticipadas 2x $10000.
URL:https://cultura.riocuarto.gob.ar/event/ojo-de-barro-x-2-4/
CATEGORIES:OJO DE BARRO
ATTACH;FMTTYPE=image/jpeg:https://cultura.riocuarto.gob.ar/wp-content/uploads/2026/04/Ojo-viernes-1-e1776861047102.jpeg
END:VEVENT
END:VCALENDAR