BEGIN:VCALENDAR
VERSION:2.0
PRODID:-//Cultura Río Cuarto - ECPv6.15.20//NONSGML v1.0//EN
CALSCALE:GREGORIAN
METHOD:PUBLISH
X-ORIGINAL-URL:https://cultura.riocuarto.gob.ar
X-WR-CALDESC:Eventos para Cultura Río Cuarto
REFRESH-INTERVAL;VALUE=DURATION:PT1H
X-Robots-Tag:noindex
X-PUBLISHED-TTL:PT1H
BEGIN:VTIMEZONE
TZID:America/Argentina/Cordoba
BEGIN:STANDARD
TZOFFSETFROM:-0300
TZOFFSETTO:-0300
TZNAME:-03
DTSTART:20240101T000000
END:STANDARD
END:VTIMEZONE
BEGIN:VEVENT
DTSTART;VALUE=DATE:20250425
DTEND;VALUE=DATE:20250426
DTSTAMP:20260423T035821
CREATED:20250416T152741Z
LAST-MODIFIED:20250416T152741Z
UID:5971-1745539200-1745625599@cultura.riocuarto.gob.ar
SUMMARY:REVISTA PERRO VIEJO N° 2
DESCRIPTION:Viernes 25 de abril. Tintorería Japonesa. 19hs. \nSe realiza la presentación de la revista nueva revista chapada a la antigua. Creadores: Ernesto Funes y Martín Álvarez.
URL:https://cultura.riocuarto.gob.ar/event/revista-perro-viejo-n-2/
CATEGORIES:TINTORERIA JAPONESA
ATTACH;FMTTYPE=image/jpeg:https://cultura.riocuarto.gob.ar/wp-content/uploads/2025/04/Perro-viajo-scaled-e1744817251191.jpg
END:VEVENT
END:VCALENDAR