BEGIN:VCALENDAR
VERSION:2.0
PRODID:-//Cultura Río Cuarto - ECPv6.15.20//NONSGML v1.0//EN
CALSCALE:GREGORIAN
METHOD:PUBLISH
X-ORIGINAL-URL:https://cultura.riocuarto.gob.ar
X-WR-CALDESC:Eventos para Cultura Río Cuarto
REFRESH-INTERVAL;VALUE=DURATION:PT1H
X-Robots-Tag:noindex
X-PUBLISHED-TTL:PT1H
BEGIN:VTIMEZONE
TZID:America/Argentina/Cordoba
BEGIN:STANDARD
TZOFFSETFROM:-0300
TZOFFSETTO:-0300
TZNAME:-03
DTSTART:20240101T000000
END:STANDARD
END:VTIMEZONE
BEGIN:VEVENT
DTSTART;VALUE=DATE:20250118
DTEND;VALUE=DATE:20250119
DTSTAMP:20260423T124300
CREATED:20250109T142058Z
LAST-MODIFIED:20250109T142058Z
UID:3257-1737158400-1737244799@cultura.riocuarto.gob.ar
SUMMARY:TALLER DE ATRAPASUEÑOS Y ATRAPASOLES
DESCRIPTION:Sábado 18 de enero. Biblioteca Vagón Reino del Revés del Andino. 19hs. \nSe realiza el taller gratuito de Atrapasueños y Atrapasoles.
URL:https://cultura.riocuarto.gob.ar/event/taller-de-atrapasuenos-y-atrapasoles/
CATEGORIES:BIBLIOTECA VAGÓN REINO DEL REVÉS. C.C. ANDINO
ATTACH;FMTTYPE=image/jpeg:https://cultura.riocuarto.gob.ar/wp-content/uploads/2025/01/atrapasueno_fedd-e1736432440636.jpg
END:VEVENT
BEGIN:VEVENT
DTSTART;VALUE=DATE:20250118
DTEND;VALUE=DATE:20250120
DTSTAMP:20260423T124300
CREATED:20250113T151739Z
LAST-MODIFIED:20250113T151739Z
UID:3371-1737158400-1737331199@cultura.riocuarto.gob.ar
SUMMARY:TALLER CUENTOS FERROVIARIOS
DESCRIPTION:Sábado 18 y domingo 19 de enero. Museo del Riel. 18.30hs. \nCrea tu propio cuento con la técnica de pop-up. \nDestinado a niños hasta los 12 años (acompañados de un adulto). \nTaller gratuito\, sin inscripción previa.
URL:https://cultura.riocuarto.gob.ar/event/taller-cuentos-ferroviarios/
CATEGORIES:MUSEO DEL RIEL. C.C. ANDINO
ATTACH;FMTTYPE=image/jpeg:https://cultura.riocuarto.gob.ar/wp-content/uploads/2025/01/taller_fedd-e1736781443611.jpg
END:VEVENT
BEGIN:VEVENT
DTSTART;TZID=America/Argentina/Cordoba:20250131T080000
DTEND;TZID=America/Argentina/Cordoba:20250228T170000
DTSTAMP:20260423T124300
CREATED:20250131T145500Z
LAST-MODIFIED:20250131T145944Z
UID:3938-1738310400-1740762000@cultura.riocuarto.gob.ar
SUMMARY:TALLER LECTURITA EN EL VAGÓN
DESCRIPTION:Todos los Miércoles – 19hs. – Biblioteca vagón Reino del Revés \nTaller destinado a niños de 4 a 12 años. Se pide asistir con muchas ganas de escuchar y reír! \nEntrada libre y gratuita. Ante mal clima\, el taller se suspendería.
URL:https://cultura.riocuarto.gob.ar/event/taller-lecturita-en-el-vagon/
CATEGORIES:BIBLIOTECA VAGÓN REINO DEL REVÉS. C.C. ANDINO,EL ANDINO
ATTACH;FMTTYPE=image/jpeg:https://cultura.riocuarto.gob.ar/wp-content/uploads/2025/01/taller-lectura-vagon-e1738335075947.jpg
END:VEVENT
BEGIN:VEVENT
DTSTART;TZID=America/Argentina/Cordoba:20250131T080000
DTEND;TZID=America/Argentina/Cordoba:20250228T170000
DTSTAMP:20260423T124300
CREATED:20250131T145845Z
LAST-MODIFIED:20250131T150349Z
UID:3944-1738310400-1740762000@cultura.riocuarto.gob.ar
SUMMARY:TALLER DE ROMPECABEZAS
DESCRIPTION:Todos los jueves – 19hs. – Biblioteca vagón Reino del Revés – Entrada libre y gratuita \nSe suspende por lluvia. Este taller esta destinado a niños de 4 a 12 años. Se pide asistir con un adulto.
URL:https://cultura.riocuarto.gob.ar/event/taller-de-rompecabezas/
CATEGORIES:BIBLIOTECA VAGÓN REINO DEL REVÉS. C.C. ANDINO,EL ANDINO
ATTACH;FMTTYPE=image/jpeg:https://cultura.riocuarto.gob.ar/wp-content/uploads/2025/01/taller-rompecabezas-e1738335397766.jpg
END:VEVENT
BEGIN:VEVENT
DTSTART;TZID=America/Argentina/Cordoba:20250131T080000
DTEND;TZID=America/Argentina/Cordoba:20250228T170000
DTSTAMP:20260423T124300
CREATED:20250131T150244Z
LAST-MODIFIED:20250131T150309Z
UID:3946-1738310400-1740762000@cultura.riocuarto.gob.ar
SUMMARY:TALLER DE ARTE. VIERNES COLORIDO
DESCRIPTION:Todos los viernes – 19hs.- Biblioteca vagón Reino del Revés. \nDestinado a niños de 4 a 12 años. Se pide asistir con un adulto. Entrada libre y gratuita. \nSe suspende por lluvia.
URL:https://cultura.riocuarto.gob.ar/event/taller-de-arte-viernes-colorido/
CATEGORIES:BIBLIOTECA VAGÓN REINO DEL REVÉS. C.C. ANDINO,EL ANDINO
ATTACH;FMTTYPE=image/jpeg:https://cultura.riocuarto.gob.ar/wp-content/uploads/2025/01/viernes-colorido-e1738335628174.jpg
END:VEVENT
END:VCALENDAR