BEGIN:VCALENDAR
VERSION:2.0
PRODID:-//Cultura Río Cuarto - ECPv6.15.20//NONSGML v1.0//EN
CALSCALE:GREGORIAN
METHOD:PUBLISH
X-WR-CALNAME:Cultura Río Cuarto
X-ORIGINAL-URL:https://cultura.riocuarto.gob.ar
X-WR-CALDESC:Eventos para Cultura Río Cuarto
REFRESH-INTERVAL;VALUE=DURATION:PT1H
X-Robots-Tag:noindex
X-PUBLISHED-TTL:PT1H
BEGIN:VTIMEZONE
TZID:America/Argentina/Cordoba
BEGIN:STANDARD
TZOFFSETFROM:-0300
TZOFFSETTO:-0300
TZNAME:-03
DTSTART:20240101T000000
END:STANDARD
END:VTIMEZONE
BEGIN:VEVENT
DTSTART;VALUE=DATE:20250305
DTEND;VALUE=DATE:20250306
DTSTAMP:20260423T093714
CREATED:20250228T161428Z
LAST-MODIFIED:20250228T161428Z
UID:4927-1741132800-1741219199@cultura.riocuarto.gob.ar
SUMMARY:TALLER DE DUBUJO "LO INABARCABLE"
DESCRIPTION:MIÉRCOLES 5 DE MARZO vuelve @loinabarcable en modalidad presencial a la @tintoreriajaponesa \nLo inabarcable es una taller de dibujo experimental destinado a jóvenes y adultos con o sin experiencia en la practica que busquen un espacio para ejercitar la técnica. \nTrabajamos enfocándonos en el ejercicio de la observación y a través de los procesos artísticos personales que se desprendan desde el dibujo\, experimentando nuevas posibilidades. \nPRIMERO ENCUENTRO ABIERTO Y\nGRATUITO:\n5 de marzo \nEl taller es arancelado y con cupo limitado.\ninfo e inscripciones: @loinabarcable | \n+5492302547314
URL:https://cultura.riocuarto.gob.ar/event/taller-de-dibujo-lo-inabarcable/
CATEGORIES:TINTORERIA JAPONESA
ATTACH;FMTTYPE=image/jpeg:https://cultura.riocuarto.gob.ar/wp-content/uploads/2025/02/Imagen-de-WhatsApp-2025-02-28-a-las-11.54.48_1deb0f16-e1740759166753.jpg
END:VEVENT
BEGIN:VEVENT
DTSTART;VALUE=DATE:20250307
DTEND;VALUE=DATE:20250308
DTSTAMP:20260423T093714
CREATED:20250306T161400Z
LAST-MODIFIED:20250306T161636Z
UID:5003-1741305600-1741391999@cultura.riocuarto.gob.ar
SUMMARY:LEER SIN CENSURA
DESCRIPTION:VIERNES 07 de MARZO – 18HS. – BIBLIOTECA PERSONAL JUAN FILLOY\nConversatorio alrededor de la lectura del libro “Cometierra” de la autora Dolores Reyes.\nActividad realizada por el grupo literario ¡Que Locura!
URL:https://cultura.riocuarto.gob.ar/event/leer-sin-censura/
CATEGORIES:TEATRINO
ATTACH;FMTTYPE=image/jpeg:https://cultura.riocuarto.gob.ar/wp-content/uploads/2025/03/IMG-20250306-WA0040-e1741277464693.jpg
END:VEVENT
BEGIN:VEVENT
DTSTART;VALUE=DATE:20250307
DTEND;VALUE=DATE:20250308
DTSTAMP:20260423T093714
CREATED:20250303T225644Z
LAST-MODIFIED:20250303T225644Z
UID:4967-1741305600-1741391999@cultura.riocuarto.gob.ar
SUMMARY:LAS GRANADAS
DESCRIPTION:7 DE MARZO – 17hs- TINTORERIA JAPONESA – Taller gratuito
URL:https://cultura.riocuarto.gob.ar/event/las-granadas/
CATEGORIES:TINTORERIA JAPONESA
ATTACH;FMTTYPE=image/jpeg:https://cultura.riocuarto.gob.ar/wp-content/uploads/2025/03/Imagen-de-WhatsApp-2025-03-03-a-las-19.50.07_3a3f46ef-e1741042509781.jpg
END:VEVENT
BEGIN:VEVENT
DTSTART;VALUE=DATE:20250308
DTEND;VALUE=DATE:20250309
DTSTAMP:20260423T093714
CREATED:20250303T225445Z
LAST-MODIFIED:20250303T225445Z
UID:4963-1741392000-1741478399@cultura.riocuarto.gob.ar
SUMMARY:BITACORERAS
DESCRIPTION:Taller de bitácoras coordinado por Pili Arias. Sábado 8 de Marzo – 9 hs. Tintorería Japonesa Constitución 947\nInfo e inscripción:\n358 573-6532
URL:https://cultura.riocuarto.gob.ar/event/bitacoreras/
CATEGORIES:TINTORERIA JAPONESA
ATTACH;FMTTYPE=image/jpeg:https://cultura.riocuarto.gob.ar/wp-content/uploads/2025/03/Imagen-de-WhatsApp-2025-03-03-a-las-19.51.53_d46e87a8.jpg
END:VEVENT
END:VCALENDAR