BEGIN:VCALENDAR
VERSION:2.0
PRODID:-//Cultura Río Cuarto - ECPv6.15.20//NONSGML v1.0//EN
CALSCALE:GREGORIAN
METHOD:PUBLISH
X-ORIGINAL-URL:https://cultura.riocuarto.gob.ar
X-WR-CALDESC:Eventos para Cultura Río Cuarto
REFRESH-INTERVAL;VALUE=DURATION:PT1H
X-Robots-Tag:noindex
X-PUBLISHED-TTL:PT1H
BEGIN:VTIMEZONE
TZID:America/Argentina/Cordoba
BEGIN:STANDARD
TZOFFSETFROM:-0300
TZOFFSETTO:-0300
TZNAME:-03
DTSTART:20240101T000000
END:STANDARD
END:VTIMEZONE
BEGIN:VEVENT
DTSTART;VALUE=DATE:20250704
DTEND;VALUE=DATE:20250705
DTSTAMP:20260423T040152
CREATED:20250611T135209Z
LAST-MODIFIED:20250611T135209Z
UID:6902-1751587200-1751673599@cultura.riocuarto.gob.ar
SUMMARY:TALLER COMADRE CANTORA A CARGO DE LUNA MONTI
DESCRIPTION:Viernes 4 de julio. Galpón Blanco del Andino. 14hs. \nSe realiza el taller a cargo de la reconocida cantora argentina Luna Monti. Destinado a mujeres y disidencias\, mayores de 18 años. Requisitos ganas de cantar con/sin experiencia. Modalidad Taller intensivo presencial de 3.30/4.00hs. Arancelado: $30000. Informe e inscripciones 3586019203. \nCONTENIDO  \n\nMi VOZ / Mis VOCES Exploración en diferentes territorios (escritura\, declamación\, artes plásticas\, movimiento\, canción\, etc)\nMi VOZ / CUERPO. Mi voz en el espacio. Sinestesia sonido y movimiento. Emoción\, expresividad y gesto.\nMi CUERPO TAMBOR. Ejercicios de disociación rítmica. Percusión corporal.\nMI VOZ CON/EN OTRAS Escucha activa. Conexión. Vínculo. Contención.\nLA VOZ DE TODAS Canto ritual\, honrando lo femenino.\nREPERTORIO de diferentes tradiciones. Arreglos vocales a 2 o 3 voces.\n\nQUÉ TRAER                                                                        \n\nRopa y calzado cómodo.\nAgua para hidratarte\nAlgo para escribir/colorear y una foto tuya de tu infancia (puede ser en el celu).\nEstaremos sentadas preferentemente en piso (podes traer almohadón)\nCompartiremos una merienda a la canasta. Trae lo que gustes.
URL:https://cultura.riocuarto.gob.ar/event/taller-comadre-cantora-a-cargo-de-luna-monti/
CATEGORIES:GALPÓN BLANCO. C.C ANDINO
ATTACH;FMTTYPE=image/jpeg:https://cultura.riocuarto.gob.ar/wp-content/uploads/2025/06/cantoras_fedd-e1749649900602.jpg
END:VEVENT
BEGIN:VEVENT
DTSTART;VALUE=DATE:20250705
DTEND;VALUE=DATE:20250706
DTSTAMP:20260423T040152
CREATED:20250627T132921Z
LAST-MODIFIED:20250630T125657Z
UID:7199-1751673600-1751759999@cultura.riocuarto.gob.ar
SUMMARY:TALLER DE ESCRITURA CREATIVA
DESCRIPTION:Sábado 5 de julio. Tintorería Japonesa. 15hs \nSe realiza el Taller de Escritura Creativa El viento y el río\, inspiración y creatividad poética. Coordinan: Romina Bada y Gabriela Solsona. Participación libre y gratuita.
URL:https://cultura.riocuarto.gob.ar/event/taller-de-escritura-creativa/
CATEGORIES:TINTORERIA JAPONESA
ATTACH;FMTTYPE=image/jpeg:https://cultura.riocuarto.gob.ar/wp-content/uploads/2025/06/Taller-escritura-scaled-e1751031008154.jpg
END:VEVENT
BEGIN:VEVENT
DTSTART;VALUE=DATE:20250705
DTEND;VALUE=DATE:20250706
DTSTAMP:20260423T040152
CREATED:20250627T133140Z
LAST-MODIFIED:20250630T125622Z
UID:7203-1751673600-1751759999@cultura.riocuarto.gob.ar
SUMMARY:TALLER DE CESTERÍA
DESCRIPTION:Sábado 5 de julio. Tintorería Japonesa. 17hs. \nSe realiza el Taller de Cestería con fibras naturales. A cargo de Mariela Ferraris. Inscripción previa: 358412-5454.
URL:https://cultura.riocuarto.gob.ar/event/taller-de-cesteria/
CATEGORIES:TINTORERIA JAPONESA
ATTACH;FMTTYPE=image/jpeg:https://cultura.riocuarto.gob.ar/wp-content/uploads/2025/06/Taller-de-cesteria-scaled-e1751030949708.jpg
END:VEVENT
BEGIN:VEVENT
DTSTART;VALUE=DATE:20250709
DTEND;VALUE=DATE:20250719
DTSTAMP:20260423T040152
CREATED:20250701T223822Z
LAST-MODIFIED:20250701T223822Z
UID:7309-1752019200-1752883199@cultura.riocuarto.gob.ar
SUMMARY:JUEGOS EN LA SALA DEL MUSEO 🎉
DESCRIPTION:🎉 📍 MUSEO MUNICIPAL HÉROES DE MALVINAS 📅 Miércoles 9 y 16 de julio. 📅 Viernes 11 y 18 de julio. ⏰ De 9 a 12hs. Te esperamos para jugar en la sala del museo! ✨ TALLER DE ARTE PARA NIÑOS 🖍️🖍️ Dibujamos y conocemos las ISLAS MALVINAS. 📅 Viernes 11 y 18 de julio. 16hs. 🎟️ Gratuito. Destinado a niños de 8 a 12 años. Info e inscripciones museoheroesdemalvinas@gmail.com
URL:https://cultura.riocuarto.gob.ar/event/juegos-en-la-sala-del-museo-%f0%9f%8e%89/
CATEGORIES:Museo Héroes de Malvinas
ATTACH;FMTTYPE=image/png:https://cultura.riocuarto.gob.ar/wp-content/uploads/2025/07/feed_malvinas-e1751409490154.png
END:VEVENT
BEGIN:VEVENT
DTSTART;VALUE=DATE:20250709
DTEND;VALUE=DATE:20250720
DTSTAMP:20260423T040152
CREATED:20250701T220103Z
LAST-MODIFIED:20250701T220103Z
UID:7280-1752019200-1752969599@cultura.riocuarto.gob.ar
SUMMARY:VACACIONES DE INVIERNO PARA LOS MÁS CHICOS EN LA BIBLIOTECA VAGÓN REINO DEL REVÉS! ✨
DESCRIPTION:⏰15.30hs. 👉 Destinado a niños de 4 a 12 años. Asistir con un adulto. Talleres gratuitos. Se suspenden por lluvia. \nCronograma: \n📅 Miércoles 9 y 16 de julio. Taller “DIVERTITERES”. Armado de divertidos títeres para dedos con forma de anillitos. No te lo pierdas! \n📅 Jueves 10 y 17 de julio. Taller “ECOAMIGOS”. Te esperamos para crear divertidos y entretenidos animalitos ecológicos! \n📅 Viernes 11 y 18 de julio. Taller “ECO-DIVERSIÓN”. Sabías que podemos hacer juguetes con materiales reciclados? Te esperamos para crear un bolero muy divertido\, solo deberás traer una botella\, la que más te guste no importa el tamaño! \n📅 Sábado 12 y 19\, domingo 13. “DIBUJITOS LIBRES”. Dibujo libre en el Vagón\, donde podrás dibujar o pintar el personaje que más te guste!
URL:https://cultura.riocuarto.gob.ar/event/vacaciones-de-invierno-para-los-mas-chicos-en-la-biblioteca-vagon-reino-del-reves-%e2%9c%a8/
CATEGORIES:BIBLIOTECA VAGÓN REINO DEL REVÉS. C.C. ANDINO
ATTACH;FMTTYPE=image/png:https://cultura.riocuarto.gob.ar/wp-content/uploads/2025/07/feed_bibliovagon-e1751407014456.png
END:VEVENT
BEGIN:VEVENT
DTSTART;VALUE=DATE:20250710
DTEND;VALUE=DATE:20250718
DTSTAMP:20260423T040152
CREATED:20250708T131155Z
LAST-MODIFIED:20250708T140435Z
UID:7562-1752105600-1752796799@cultura.riocuarto.gob.ar
SUMMARY:VACACIONES EN EL ARREGUI CANO
DESCRIPTION:de Martes a Jueves 9 a 17hs. – visitas guiadas y actividades recreativas \n 
URL:https://cultura.riocuarto.gob.ar/event/vacaciones-en-el-arregui-cano/
CATEGORIES:ARREGUI CANO
ATTACH;FMTTYPE=image/jpeg:https://cultura.riocuarto.gob.ar/wp-content/uploads/2025/07/Imagen-de-WhatsApp-2025-07-08-a-las-10.34.19_b6948fa9.jpg
END:VEVENT
BEGIN:VEVENT
DTSTART;VALUE=DATE:20250712
DTEND;VALUE=DATE:20250713
DTSTAMP:20260423T040152
CREATED:20250627T131143Z
LAST-MODIFIED:20250627T131143Z
UID:7196-1752278400-1752364799@cultura.riocuarto.gob.ar
SUMMARY:TALLER DE FOTOBORDADO
DESCRIPTION:Sábado 12 de julio. Museo Histórico Regional. 15hs. \nSe realiza el Taller de Fotobordado a cargo de Silvina de la Cruz (El Altillo). Taller arancelado a través de una contribución. Cupos limitados. Inscripciones e informes: Silvina de la Cruz 3584367906- @elaltillof  Voluntaria Consciente. \nLa propuesta de este taller es hacer un proceso creativo para agregarle valor estético y nuestra impronta personal bordando las fotografías para convertirlas en pequeñas obras de arte. Un encuentro para aprender algunas puntadas básicas y la técnica para bordar nuestras fotos y papeles. Es una invitación a trazar un camino a través de fotografías\, papeles\, hilos y puntadas. Estos materiales se convierten en un lenguaje que nos lleva mucho más allá de lo que podemos ver y nos abre a un mundo donde la memoria\, las emociones y el arte se unen. La posibilidad de darles una nueva vida a las fotos a través de nuestra mirada creativa tiene algo de misterio\, porque ¿en qué pueden convertirse si se atraviesan con colores y texturas? ¿Qué nos dice lo que no se ve? \nMateriales sugeridos para traer al encuentro: tijera\, aguja de costura n° 6 o 7\, hilo de bordar (el que tengan)\, fotografía o imagen que quieran intervenir. Importante: en el encuentro habrá disponibles hilos\, agujas e imágenes para quienes no tengan.
URL:https://cultura.riocuarto.gob.ar/event/taller-de-fotobordado/
CATEGORIES:MUSEO HISTORICO
ATTACH;FMTTYPE=image/jpeg:https://cultura.riocuarto.gob.ar/wp-content/uploads/2025/06/fotobordado_fedd-e1751029894408.jpg
END:VEVENT
BEGIN:VEVENT
DTSTART;VALUE=DATE:20250719
DTEND;VALUE=DATE:20250720
DTSTAMP:20260423T040152
CREATED:20250715T141037Z
LAST-MODIFIED:20250715T141052Z
UID:7705-1752883200-1752969599@cultura.riocuarto.gob.ar
SUMMARY:TARDE DE BORDADO JAPONÉS
DESCRIPTION:Sábado 19 de julio- 16 hs. Con Gabriela Arias  \nTarde de bordado japonés:\nFuroshiki con  Sashiko Hitomezashi\, el motivo será Ajisai. \nArancelado\, con promo amistad. Consultas e inscripciones:\nWsp: 358 4377387 @gabrielaarias549 \nTe invitamos a bordar con calma y belleza\,\nuna flor por vez\, un gesto a la vez.\nUn furoshiki que envuelve\, abraza y florece. \nTintorería Japonesa\n-Constitución 947- Río IV
URL:https://cultura.riocuarto.gob.ar/event/tarde-de-bordado-japones-2/
CATEGORIES:TINTORERIA JAPONESA
ATTACH;FMTTYPE=image/jpeg:https://cultura.riocuarto.gob.ar/wp-content/uploads/2025/07/IMG-20250715-WA0022.jpg
END:VEVENT
BEGIN:VEVENT
DTSTART;VALUE=DATE:20250729
DTEND;VALUE=DATE:20250730
DTSTAMP:20260423T040152
CREATED:20250725T143345Z
LAST-MODIFIED:20250725T143345Z
UID:7959-1753747200-1753833599@cultura.riocuarto.gob.ar
SUMMARY:VAMPICLUB DE LECTURA
DESCRIPTION:Martes 29 de julio. Biblioteca Personal Juan Filloy-C. C. Trapalanda\, Colón 149  1° Piso. 18hs. Actividad gratuita. \nEl Vampiclub recorrió la tenebrosa Transilvania y ahora se sube al primer tren hacia Estiria. Porque antes de Drácula estuvo ella\, Carmilla\, condesa y vampira. Ahora leemos el relato de Le Fanu y nos encontramos para debatirlo en el club. Los martes cada 15 días. \nMomento ideal para sumarte al club y pasarlo joya entre crónicas vampíricas! Consultas e inscripciones al 3585611117 o @mad.memi
URL:https://cultura.riocuarto.gob.ar/event/vampiclub-de-lectura/
CATEGORIES:BIBLIOTECA PERSONAL JUAN FILLOY. C.C. TRAPALANDA
ATTACH;FMTTYPE=image/jpeg:https://cultura.riocuarto.gob.ar/wp-content/uploads/2025/07/Vampiclub-e1753450293732.jpg
END:VEVENT
END:VCALENDAR