BEGIN:VCALENDAR
VERSION:2.0
PRODID:-//Cultura Río Cuarto - ECPv6.15.20//NONSGML v1.0//EN
CALSCALE:GREGORIAN
METHOD:PUBLISH
X-WR-CALNAME:Cultura Río Cuarto
X-ORIGINAL-URL:https://cultura.riocuarto.gob.ar
X-WR-CALDESC:Eventos para Cultura Río Cuarto
REFRESH-INTERVAL;VALUE=DURATION:PT1H
X-Robots-Tag:noindex
X-PUBLISHED-TTL:PT1H
BEGIN:VTIMEZONE
TZID:America/Argentina/Cordoba
BEGIN:STANDARD
TZOFFSETFROM:-0300
TZOFFSETTO:-0300
TZNAME:-03
DTSTART:20240101T000000
END:STANDARD
END:VTIMEZONE
BEGIN:VEVENT
DTSTART;VALUE=DATE:20250118
DTEND;VALUE=DATE:20250120
DTSTAMP:20260423T193330
CREATED:20250113T151739Z
LAST-MODIFIED:20250113T151739Z
UID:3371-1737158400-1737331199@cultura.riocuarto.gob.ar
SUMMARY:TALLER CUENTOS FERROVIARIOS
DESCRIPTION:Sábado 18 y domingo 19 de enero. Museo del Riel. 18.30hs. \nCrea tu propio cuento con la técnica de pop-up. \nDestinado a niños hasta los 12 años (acompañados de un adulto). \nTaller gratuito\, sin inscripción previa.
URL:https://cultura.riocuarto.gob.ar/event/taller-cuentos-ferroviarios/
CATEGORIES:MUSEO DEL RIEL. C.C. ANDINO
ATTACH;FMTTYPE=image/jpeg:https://cultura.riocuarto.gob.ar/wp-content/uploads/2025/01/taller_fedd-e1736781443611.jpg
END:VEVENT
END:VCALENDAR