BEGIN:VCALENDAR
VERSION:2.0
PRODID:-//Cultura Río Cuarto - ECPv6.15.20//NONSGML v1.0//EN
CALSCALE:GREGORIAN
METHOD:PUBLISH
X-WR-CALNAME:Cultura Río Cuarto
X-ORIGINAL-URL:https://cultura.riocuarto.gob.ar
X-WR-CALDESC:Eventos para Cultura Río Cuarto
REFRESH-INTERVAL;VALUE=DURATION:PT1H
X-Robots-Tag:noindex
X-PUBLISHED-TTL:PT1H
BEGIN:VTIMEZONE
TZID:America/Argentina/Cordoba
BEGIN:STANDARD
TZOFFSETFROM:-0300
TZOFFSETTO:-0300
TZNAME:-03
DTSTART:20240101T000000
END:STANDARD
END:VTIMEZONE
BEGIN:VEVENT
DTSTART;VALUE=DATE:20250607
DTEND;VALUE=DATE:20250608
DTSTAMP:20260425T115744
CREATED:20250526T151754Z
LAST-MODIFIED:20250526T151754Z
UID:6607-1749254400-1749340799@cultura.riocuarto.gob.ar
SUMMARY:TALLER DE REDES SOCIALES PARA ARTISTAS
DESCRIPTION:Sábado 7 de junio. Tintorería Japonesa. 15hs. \nSe realiza el Taller de Redes Sociales para Artistas. Valor: $10.000. \nMaterial: celular con la aplicación descargada y acceso a internet o pc con acceso a internet. Confirmar asistencia\, cupos limitados. Se enviará material digital post taller para consultar cuando sea necesario  Info al 3584024991 o por ig en @vaiven.dg. Está destinado para artistas o emprendedores del arte\, vamos a utilizar la plataforma Canva en su versión gratuita\, vamos a navegar por la página y aprender sobre tamaños\, formatos\, fondos\, texturas\, estrategias de contenido\, utilización de inteligencia artificial dentro de Canva.
URL:https://cultura.riocuarto.gob.ar/event/taller-de-redes-sociales-para-artistas/
CATEGORIES:TINTORERIA JAPONESA
ATTACH;FMTTYPE=image/jpeg:https://cultura.riocuarto.gob.ar/wp-content/uploads/2025/05/redes-scaled-e1748272661131.jpg
END:VEVENT
END:VCALENDAR