BEGIN:VCALENDAR
VERSION:2.0
PRODID:-//Cultura Río Cuarto - ECPv6.15.20//NONSGML v1.0//EN
CALSCALE:GREGORIAN
METHOD:PUBLISH
X-WR-CALNAME:Cultura Río Cuarto
X-ORIGINAL-URL:https://cultura.riocuarto.gob.ar
X-WR-CALDESC:Eventos para Cultura Río Cuarto
REFRESH-INTERVAL;VALUE=DURATION:PT1H
X-Robots-Tag:noindex
X-PUBLISHED-TTL:PT1H
BEGIN:VTIMEZONE
TZID:America/Argentina/Cordoba
BEGIN:STANDARD
TZOFFSETFROM:-0300
TZOFFSETTO:-0300
TZNAME:-03
DTSTART:20240101T000000
END:STANDARD
END:VTIMEZONE
BEGIN:VEVENT
DTSTART;VALUE=DATE:20250709
DTEND;VALUE=DATE:20250720
DTSTAMP:20260423T155111
CREATED:20250701T220103Z
LAST-MODIFIED:20250701T220103Z
UID:7280-1752019200-1752969599@cultura.riocuarto.gob.ar
SUMMARY:VACACIONES DE INVIERNO PARA LOS MÁS CHICOS EN LA BIBLIOTECA VAGÓN REINO DEL REVÉS! ✨
DESCRIPTION:⏰15.30hs. 👉 Destinado a niños de 4 a 12 años. Asistir con un adulto. Talleres gratuitos. Se suspenden por lluvia. \nCronograma: \n📅 Miércoles 9 y 16 de julio. Taller “DIVERTITERES”. Armado de divertidos títeres para dedos con forma de anillitos. No te lo pierdas! \n📅 Jueves 10 y 17 de julio. Taller “ECOAMIGOS”. Te esperamos para crear divertidos y entretenidos animalitos ecológicos! \n📅 Viernes 11 y 18 de julio. Taller “ECO-DIVERSIÓN”. Sabías que podemos hacer juguetes con materiales reciclados? Te esperamos para crear un bolero muy divertido\, solo deberás traer una botella\, la que más te guste no importa el tamaño! \n📅 Sábado 12 y 19\, domingo 13. “DIBUJITOS LIBRES”. Dibujo libre en el Vagón\, donde podrás dibujar o pintar el personaje que más te guste!
URL:https://cultura.riocuarto.gob.ar/event/vacaciones-de-invierno-para-los-mas-chicos-en-la-biblioteca-vagon-reino-del-reves-%e2%9c%a8/
CATEGORIES:BIBLIOTECA VAGÓN REINO DEL REVÉS. C.C. ANDINO
ATTACH;FMTTYPE=image/png:https://cultura.riocuarto.gob.ar/wp-content/uploads/2025/07/feed_bibliovagon-e1751407014456.png
END:VEVENT
BEGIN:VEVENT
DTSTART;VALUE=DATE:20250719
DTEND;VALUE=DATE:20250720
DTSTAMP:20260423T155111
CREATED:20250715T141037Z
LAST-MODIFIED:20250715T141052Z
UID:7705-1752883200-1752969599@cultura.riocuarto.gob.ar
SUMMARY:TARDE DE BORDADO JAPONÉS
DESCRIPTION:Sábado 19 de julio- 16 hs. Con Gabriela Arias  \nTarde de bordado japonés:\nFuroshiki con  Sashiko Hitomezashi\, el motivo será Ajisai. \nArancelado\, con promo amistad. Consultas e inscripciones:\nWsp: 358 4377387 @gabrielaarias549 \nTe invitamos a bordar con calma y belleza\,\nuna flor por vez\, un gesto a la vez.\nUn furoshiki que envuelve\, abraza y florece. \nTintorería Japonesa\n-Constitución 947- Río IV
URL:https://cultura.riocuarto.gob.ar/event/tarde-de-bordado-japones-2/
CATEGORIES:TINTORERIA JAPONESA
ATTACH;FMTTYPE=image/jpeg:https://cultura.riocuarto.gob.ar/wp-content/uploads/2025/07/IMG-20250715-WA0022.jpg
END:VEVENT
END:VCALENDAR