BEGIN:VCALENDAR
VERSION:2.0
PRODID:-//Cultura Río Cuarto - ECPv6.15.20//NONSGML v1.0//EN
CALSCALE:GREGORIAN
METHOD:PUBLISH
X-WR-CALNAME:Cultura Río Cuarto
X-ORIGINAL-URL:https://cultura.riocuarto.gob.ar
X-WR-CALDESC:Eventos para Cultura Río Cuarto
REFRESH-INTERVAL;VALUE=DURATION:PT1H
X-Robots-Tag:noindex
X-PUBLISHED-TTL:PT1H
BEGIN:VTIMEZONE
TZID:America/Argentina/Cordoba
BEGIN:STANDARD
TZOFFSETFROM:-0300
TZOFFSETTO:-0300
TZNAME:-03
DTSTART:20240101T000000
END:STANDARD
END:VTIMEZONE
BEGIN:VEVENT
DTSTART;VALUE=DATE:20250909
DTEND;VALUE=DATE:20250917
DTSTAMP:20260423T113247
CREATED:20250908T161811Z
LAST-MODIFIED:20250908T161811Z
UID:8851-1757376000-1758067199@cultura.riocuarto.gob.ar
SUMMARY:VAMPICLUB DE LECTURA
DESCRIPTION:Martes 9 y 16 de septiembre. Biblioteca Personal “Juan Filloy” (Colon 149\, 1er Piso). 18hs. Gratuito. \nEn el VampiClub compartimos debates e ideas\, a la par de la lectura de “Frankenstein” de Mary Shelley. Nos juntamos para acompañarnos en este viaje y (re)descubrir la mítica historia y sus personajes. Si te gustan las novelas de terror\, siempre quisiste leer el libro o te gusta compartir acerca de lo que lees\, ¡este es un espacio para vos!.  Encuentros presenciales quincenales\, martes de 18 a 20hs. Coordina y modera mad.memi. Consultas e inscripciones al 3585611117.
URL:https://cultura.riocuarto.gob.ar/event/vampiclub-de-lectura-2/
CATEGORIES:BIBLIOTECA PERSONAL JUAN FILLOY. C.C. TRAPALANDA
ATTACH;FMTTYPE=image/jpeg:https://cultura.riocuarto.gob.ar/wp-content/uploads/2025/09/VAMPICLUB-SEPTIEMBRE-FEED-e1757348284763.jpg
END:VEVENT
BEGIN:VEVENT
DTSTART;VALUE=DATE:20250914
DTEND;VALUE=DATE:20250915
DTSTAMP:20260423T113247
CREATED:20250910T125709Z
LAST-MODIFIED:20250910T125709Z
UID:8884-1757808000-1757894399@cultura.riocuarto.gob.ar
SUMMARY:TALLER HOLA SEÑORA PRIMAVERA
DESCRIPTION:Domingo 14 de septiembre. Biblioteca Vagón Reino del Revés. 15.30hs. Gratuito \nSe realiza el Taller Hola Señora Primavera: “¿Sabías que está llegando la estación más linda y colorida del año? Es por ello que te invitamos a crear divertidas macetas y flores para el jardín”. \nDestinado a niños de 4 a 12 años. Asistir con un adulto. Traer botellas transparentes de cualquier tamaño. Se suspende por lluvia.
URL:https://cultura.riocuarto.gob.ar/event/taller-hola-senora-primavera/
CATEGORIES:BIBLIOTECA VAGÓN REINO DEL REVÉS. C.C. ANDINO
ATTACH;FMTTYPE=image/png:https://cultura.riocuarto.gob.ar/wp-content/uploads/2025/09/Primavera-e1757509016157.png
END:VEVENT
END:VCALENDAR