BEGIN:VCALENDAR
VERSION:2.0
PRODID:-//Cultura Río Cuarto - ECPv6.15.20//NONSGML v1.0//EN
CALSCALE:GREGORIAN
METHOD:PUBLISH
X-WR-CALNAME:Cultura Río Cuarto
X-ORIGINAL-URL:https://cultura.riocuarto.gob.ar
X-WR-CALDESC:Eventos para Cultura Río Cuarto
REFRESH-INTERVAL;VALUE=DURATION:PT1H
X-Robots-Tag:noindex
X-PUBLISHED-TTL:PT1H
BEGIN:VTIMEZONE
TZID:America/Argentina/Cordoba
BEGIN:STANDARD
TZOFFSETFROM:-0300
TZOFFSETTO:-0300
TZNAME:-03
DTSTART:20240101T000000
END:STANDARD
END:VTIMEZONE
BEGIN:VEVENT
DTSTART;VALUE=DATE:20251022
DTEND;VALUE=DATE:20251023
DTSTAMP:20260424T175324
CREATED:20251017T121243Z
LAST-MODIFIED:20251017T121243Z
UID:9486-1761091200-1761177599@cultura.riocuarto.gob.ar
SUMMARY:SEMINARIO: LA HISTORIA DEL CUARTETO CONTADA DESDE EL PIANO Y EL ACORDEÓN
DESCRIPTION:Miércoles 22 de octubre. Galpón Blanco Centro Cultural Andino. 18.30hs. \nSe realiza el seminario La historia del cuarteto contada desde el piano y el acordeón\, un recorrido musical junto a Marcos Merlini y Daniel Franco\, pianista y acordeonista de La Mona Jiménez. Inscripciones y consultas: 3585612205/3584373814. @tipicaescuelademusica Organiza: Típica Escuela de Música Popular.
URL:https://cultura.riocuarto.gob.ar/event/seminario-la-historia-del-cuarteto-contada-desde-el-piano-y-el-acordeon/
CATEGORIES:GALPÓN BLANCO. C.C ANDINO
ATTACH;FMTTYPE=image/png:https://cultura.riocuarto.gob.ar/wp-content/uploads/2025/10/Seminario-cuarteto-e1760703149879.png
END:VEVENT
END:VCALENDAR