BEGIN:VCALENDAR
VERSION:2.0
PRODID:-//Cultura Río Cuarto - ECPv6.15.20//NONSGML v1.0//EN
CALSCALE:GREGORIAN
METHOD:PUBLISH
X-ORIGINAL-URL:https://cultura.riocuarto.gob.ar
X-WR-CALDESC:Eventos para Cultura Río Cuarto
REFRESH-INTERVAL;VALUE=DURATION:PT1H
X-Robots-Tag:noindex
X-PUBLISHED-TTL:PT1H
BEGIN:VTIMEZONE
TZID:America/Argentina/Cordoba
BEGIN:STANDARD
TZOFFSETFROM:-0300
TZOFFSETTO:-0300
TZNAME:-03
DTSTART:20240101T000000
END:STANDARD
END:VTIMEZONE
BEGIN:VEVENT
DTSTART;VALUE=DATE:20250508
DTEND;VALUE=DATE:20250509
DTSTAMP:20260424T101245
CREATED:20250416T144600Z
LAST-MODIFIED:20250416T144644Z
UID:5966-1746662400-1746748799@cultura.riocuarto.gob.ar
SUMMARY:CURSO-TALLER DE ENTRENAMIENTO ACTORAL
DESCRIPTION:Jueves 8 de mayo. SUM Teatro Municipal. 19 a 21hs. \nComienza el nuevo año del curso taller gratuito coordinado por Argelia Neild. Inscripciones: 3585746098.
URL:https://cultura.riocuarto.gob.ar/event/curso-taller-de-entrenamiento-actoral/
CATEGORIES:SUM TEATRO MUNICIPAL
ATTACH;FMTTYPE=image/jpeg:https://cultura.riocuarto.gob.ar/wp-content/uploads/2025/04/teatro-argelia_fedd-e1744813986334.jpg
END:VEVENT
BEGIN:VEVENT
DTSTART;VALUE=DATE:20250509
DTEND;VALUE=DATE:20250510
DTSTAMP:20260424T101245
CREATED:20250505T141212Z
LAST-MODIFIED:20250505T141212Z
UID:6268-1746748800-1746835199@cultura.riocuarto.gob.ar
SUMMARY:TEATRO: LAS HEREDERAS
DESCRIPTION:Viernes 9 de mayo. Teatrino de la Trapalanda. 20.30hs. Entrada gral. $10000\, a beneficio del Asilo San José. \nEl Elenco Independiente de Comedias vuelve a presentar la obra de Felipe Cuetara. Cuatro hermanas …. una herencia … un conflicto inesperado. \nActúan: Cristina Blanch\, Lilian Cardarelli\, Renee Storello\, Carolina Vieyra. Producción y dirección general: Daniel Provens
URL:https://cultura.riocuarto.gob.ar/event/teatro-las-herederas/
CATEGORIES:TEATRINO
ATTACH;FMTTYPE=image/jpeg:https://cultura.riocuarto.gob.ar/wp-content/uploads/2025/05/Las-herederas-e1746454324832.jpg
END:VEVENT
BEGIN:VEVENT
DTSTART;VALUE=DATE:20250511
DTEND;VALUE=DATE:20250512
DTSTAMP:20260424T101245
CREATED:20250505T144901Z
LAST-MODIFIED:20250505T144901Z
UID:6271-1746921600-1747007999@cultura.riocuarto.gob.ar
SUMMARY:DESDE EL BORDE\, RÉQUIEM TEATRAL PARA NUESTRXS MUERTXS  
DESCRIPTION:Domingo 11 de mayo. Teatrino de la Trapalanda. 19hs. Entrada a la gorra. Apta para mayores de 13 años \nEn el ciclo de teatro sube a escena la obra “Desde el borde\, réquiem teatral para nuestrxs muertxs”. En la escena: Melina Forte y Gustavo Bendersky. Asesoramiento musical: Agustina Schreider\, asesora dramatúrgica: María Vilchez Aruani. Fotografías: Ivo Betti & MUBA. Diseño gráfico: Natalia Hallam. Dirección: Nadia Grandón. Idea y dramaturgia: Melina Forte \nEste espectáculo es un manifiesto contra la estéril creencia occidental que confina a nuestros muertos al silencio del duelo “que hay que atravesar”\, ¿quiénes\, cuándo\, por qué nos han hecho creer que la muerte es una condición muda e infranqueable?. Los muertos\, nuestros muertos\, interactúan permanentemente con quienes estamos de este lado… nos cuestionan\, interceden\, envían mensajes\, prestidigitan conjuntamente eso que llamamos destino quizás por no saber nombrarlo de otro modo… en incesante colaboración y agitada coproducción con nuestros muertos\, este espectáculo es una botella abierta y derramada que viene y va entre el mundo de los vivos y el mundo de los muertos.
URL:https://cultura.riocuarto.gob.ar/event/desde-el-borde-requiem-teatral-para-nuestrxs-muertxs/
CATEGORIES:TEATRINO
ATTACH;FMTTYPE=image/jpeg:https://cultura.riocuarto.gob.ar/wp-content/uploads/2025/05/Desde-el-borde-e1746456528568.jpg
END:VEVENT
BEGIN:VEVENT
DTSTART;VALUE=DATE:20250517
DTEND;VALUE=DATE:20250518
DTSTAMP:20260424T101245
CREATED:20250328T124841Z
LAST-MODIFIED:20250328T124841Z
UID:5571-1747440000-1747526399@cultura.riocuarto.gob.ar
SUMMARY:BALLET CLÁSICO DE SAN PETERSBURGO: CARMEN
DESCRIPTION:Sábado 17 de mayo. Teatro Municipal. 21hs. Entradas: $49500-44000 \nVuelve a la ciudad el prestigioso elenco ruso para presentar la famosa obra Carmen de G. Bizet. \nLa  obra Carmen que nos trae el Ballet Clásico de San Petersburgo\, es una versión  para ballet en un solo acto basado en la novela homónima de Prosper Mérimée y la música de la  ópera de Georges Bizet\, la trama se desarrolla en Sevilla\, España\, y gira en torno a la pasión y el destino trágico de los personajes. \nLa segunda parte de la presentación incluirá piezas consagradas del ballet mundial\, como el Grand pas del Ballet don Quijote\, La muerte del cisne\, entre otras. \nLos personajes principales Carmen y Don José\, serán interpretadas respectivamente por la prima ballerina del Ballet de gran Maestro y leyenda del ballet Yuri Grigorovich\, Maria Tomilova y por Alexander Volchkov\, premier del ballet Bolshoi de Moscú\, la presencia de estas grandes figuras del ballet mundial como solistas de esta producción la impronta con un sello de calidad al más alto nivel.
URL:https://cultura.riocuarto.gob.ar/event/ballet-clasico-de-san-petersburgo-carmen/
CATEGORIES:TEATRO MUNICIPAL
ATTACH;FMTTYPE=image/png:https://cultura.riocuarto.gob.ar/wp-content/uploads/2025/03/ballet_feed-e1743166038801.png
END:VEVENT
BEGIN:VEVENT
DTSTART;VALUE=DATE:20250522
DTEND;VALUE=DATE:20250523
DTSTAMP:20260424T101245
CREATED:20250328T125538Z
LAST-MODIFIED:20250522T150438Z
UID:5574-1747872000-1747958399@cultura.riocuarto.gob.ar
SUMMARY:SEX\, LA OBRA: ENTRADAS AGOTADAS
DESCRIPTION:Jueves 22 de mayo. Teatro Municipal. Dos funciones: 21 y 22.30hs. Entradas agotadas. \nSube a escena la exitosa obra protagonizada por los reconocidos actores argentinos Diego Ramos\, Gloria Carra\, Julieta ortega y Nicolás Riera. \nUna obra de texto sobre el universo del goce\, un espectáculo teatral en donde el sexo es el tema central y el humor un lenguaje reflexivo: cómo el sexo nos acompaña en nuestras emociones y la vida diaria? \nCuatro grandes intérpretes para abrir interrogantes con glamour e inteligencia: \nTe reís cuando gozas? \nO gozar es cosa seria?
URL:https://cultura.riocuarto.gob.ar/event/sex-la-obra/
CATEGORIES:TEATRO MUNICIPAL
ATTACH;FMTTYPE=image/png:https://cultura.riocuarto.gob.ar/wp-content/uploads/2025/03/sex_feed-e1743166526869.png
END:VEVENT
BEGIN:VEVENT
DTSTART;VALUE=DATE:20250523
DTEND;VALUE=DATE:20250524
DTSTAMP:20260424T101245
CREATED:20250520T151959Z
LAST-MODIFIED:20250520T151959Z
UID:6486-1747958400-1748044799@cultura.riocuarto.gob.ar
SUMMARY:BARRO DISIDENTE
DESCRIPTION:Viernes 23 de mayo. C.C. Ojo de Barro (Bolívar 373). 20hs. Entrada gral. a $4000. \nSe realiza el segundo encuentro de Barro Disidente\, en que continúan “con lo que nos hemos propuesto\, mostrar las producciones artísticas de mujeres y disidencias\, en cualquiera de las formas\, que desarrollan en el ámbito de Río Cuarto. En este caso\, contaremos con música en vivo de las Molly\, acústico de Palevadula\, Jam Session libre para vengas a cantar o tocar (trae tu instrumento)\, dúo musical de Vicky Sagárnag y Moni Singer\, rap con Gal4tea\, intervención teatral de Las hijas de Susú\, intervención artística danza circo con Anto Frankel\, La Vir y Hewa Circus. Expo/feria de Sofía Schneider\, Paloma Carbo\, Agna lencería y Vieja loca rockería.
URL:https://cultura.riocuarto.gob.ar/event/barro-disidente/
CATEGORIES:OJO DE BARRO
ATTACH;FMTTYPE=image/jpeg:https://cultura.riocuarto.gob.ar/wp-content/uploads/2025/05/Barro-disidente-e1747754373208.jpeg
END:VEVENT
BEGIN:VEVENT
DTSTART;VALUE=DATE:20250530
DTEND;VALUE=DATE:20250601
DTSTAMP:20260424T101245
CREATED:20250328T125944Z
LAST-MODIFIED:20250528T124607Z
UID:5577-1748563200-1748735999@cultura.riocuarto.gob.ar
SUMMARY:EL AUTENTICO PIRULO: ENTRADAS AGOTADAS
DESCRIPTION:Viernes 30 y Sábado 31 de mayo. Teatro Municipal. 21hs. Entradas agotadas \nMauro Villaverde y Gerardo Coniglio presentan una nueva obra\, su quinta creación desde que llegaron con su humor al teatro. Esta dupla que nació en redes en el 2020 junto al gran Pirulo Valmaceda\, sigue sumando seguidores y espectadores. En esta oportunidad\, el trío de protagonistas contará con el aporte musical y actoral de Mariano Garnero. \nLa historia gira alrededor de un emprendimiento comercial donde Pirulo busca despegarse de sus compañeros. Quiere iniciar su vida laboral solo y para ello instala un puesto callejero de frutas y verduras. El negocio funciona viento en popa hasta que aparece un Inspector de Recaudación Fiscal\, desde ese momento comienzan los problemas y conflictos para poder seguir adelante con el emprendimiento. La búsqueda por solucionar el inconveniente traerá muchas sorpresas. Un cantante callejero\, Marta y Juana\, vecinas del barrio\, llevarán la historia por lugares impensados y con un final emotivo para reflexionar. \nEl Auténtico Pirulo tendrá una duración aproximada de 90 minutos\, se desarrollará en distintas escenas\, con ambientaciones acordes a la trama. Acompañada por videos grabados que serán proyectados en pantalla led y que le darán línea de continuidad a cada escena. \nEste año la producción de Pirulo vuelve a apostar por una obra teatral en género de comedia\, apta para todo público\, sumando actores de reparto\, músico\, vestuario de ocasión y poniendo en relieve el talento del ventrílocuo Mauro Villaverde.
URL:https://cultura.riocuarto.gob.ar/event/el-autentico-pirulo/
CATEGORIES:TEATRO MUNICIPAL
ATTACH;FMTTYPE=image/png:https://cultura.riocuarto.gob.ar/wp-content/uploads/2025/03/pirulo_feed-1-e1747320058563.png
END:VEVENT
END:VCALENDAR