BEGIN:VCALENDAR
VERSION:2.0
PRODID:-//Cultura Río Cuarto - ECPv6.15.20//NONSGML v1.0//EN
CALSCALE:GREGORIAN
METHOD:PUBLISH
X-ORIGINAL-URL:https://cultura.riocuarto.gob.ar
X-WR-CALDESC:Eventos para Cultura Río Cuarto
REFRESH-INTERVAL;VALUE=DURATION:PT1H
X-Robots-Tag:noindex
X-PUBLISHED-TTL:PT1H
BEGIN:VTIMEZONE
TZID:America/Argentina/Cordoba
BEGIN:STANDARD
TZOFFSETFROM:-0300
TZOFFSETTO:-0300
TZNAME:-03
DTSTART:20240101T000000
END:STANDARD
END:VTIMEZONE
BEGIN:VEVENT
DTSTART;VALUE=DATE:20250601
DTEND;VALUE=DATE:20250602
DTSTAMP:20260424T084933
CREATED:20250515T145550Z
LAST-MODIFIED:20250515T145550Z
UID:6445-1748736000-1748822399@cultura.riocuarto.gob.ar
SUMMARY:TEATRO: EL RASTRO DE LA CANELA
DESCRIPTION:Domingo 1º de junio. Teatrino de la Trapalanda. 20hs. Entrada a la gorra. Dirigido a público a partir de 13 años \nEn el ciclo Domingos de Teatro\, la compañía Teatro del Bardo presenta la obra El rastro de la canela. Espectáculo teatral unipersonal actuado por Walter Arosteguy y dirigido por Valeria Folini\, que surge de la adaptación de la novela homónima de Liliana Bodoc. \nBodoc abreva en los hechos que precedieron a la Revolución de Mayo de 1810. Con un tratamiento liminal entre lo ficcional y lo histórico\, entre lo antropológico y lo político\, entre el drama\, la comedia y la tragedia\, la autora consigue que pensemos el momento fundacional de la Argentina desde una óptica mítica. Pero en un sentido inverso\, permitiendo desmitificar el relato reproducido por la historia oficial y\, de esta manera\, mirar por los intersticios de las vidas de las personas que protagonizaron los eventos ocurridos.  “Lo personal es político” pareciera ser el leiv motiv de la novela. \nAdaptación: Folini-Arosteguy. Vestuario: Reina Heels. Máscara: Tovio Velozo. Iluminación: Gabriela Trevisani. Objetos: Edgardo Lara. Voces: Julia Bendersky y Manuel del Rey Rodriguez. Fotos: Leonardo Gregoret. Diseño gráfico: Fabia Estamat.
URL:https://cultura.riocuarto.gob.ar/event/teatro-el-rastro-de-la-canela/
CATEGORIES:TEATRINO
ATTACH;FMTTYPE=image/jpeg:https://cultura.riocuarto.gob.ar/wp-content/uploads/2025/05/Canela-e1747320938726.jpg
END:VEVENT
BEGIN:VEVENT
DTSTART;VALUE=DATE:20250606
DTEND;VALUE=DATE:20250607
DTSTAMP:20260424T084933
CREATED:20250526T152300Z
LAST-MODIFIED:20250526T152300Z
UID:6610-1749168000-1749254399@cultura.riocuarto.gob.ar
SUMMARY:TEATRO: HUMOR SIEMPRE HUMOR
DESCRIPTION:Viernes 6 de junio. Teatrino de la Trapalanda. 21hs. Entrada gral. $3000. \nEl Grupo de Teatro Alas presenta la obra Humor siempre humor\, con las actuaciones de María Elena Méndez\, Milta Pomilio\, Viviana Boldeti\, Nilva S. Foglizo\, Mariana Frontera y Humberto C. Palermo. Musicalización: Sergio Albornoz. Coordinación: Paola Sturniolo de Agüero. Dirección general: Miguel Angel Agüero.
URL:https://cultura.riocuarto.gob.ar/event/teatro-humor-siempre-humor/
CATEGORIES:TEATRINO
ATTACH;FMTTYPE=image/jpeg:https://cultura.riocuarto.gob.ar/wp-content/uploads/2025/05/Humor-e1748272971314.jpg
END:VEVENT
BEGIN:VEVENT
DTSTART;VALUE=DATE:20250607
DTEND;VALUE=DATE:20250608
DTSTAMP:20260424T084933
CREATED:20250515T145816Z
LAST-MODIFIED:20250515T145816Z
UID:6448-1749254400-1749340799@cultura.riocuarto.gob.ar
SUMMARY:CONVERSACIONES CON MAMÁ
DESCRIPTION:Sábado 7 de junio. Teatro Municipal. 21.30hs. Entradas: $30000-25000-20000 \nDebuta la versión local de la conocida obra teatral de Santiago Carlos Oves. \nConversaciones con Mamá es la historia de un hombre desorientado\, que vuelve a necesitar\, sin saberlo\, de los consejos de una madre anciana pero de corazón joven. Jaime descubrirá que nunca es tarde para comprender que las apariencias engañan. \nUna comedia brillante y deliciosa\, que le permite a Diego Torres Silvera explorar el humor desde un lugar mucho más agudo y entrañable junto a la actriz Griselda Calosso\, quien desde su rol ofrece una caricia teatral en medio de la vorágine cotidiana de su hijo y la de todos nosotros; los espectadores.
URL:https://cultura.riocuarto.gob.ar/event/conversaciones-con-mama/
CATEGORIES:TEATRO MUNICIPAL
ATTACH;FMTTYPE=image/png:https://cultura.riocuarto.gob.ar/wp-content/uploads/2025/05/conversaciones_feed-e1747321086996.png
END:VEVENT
BEGIN:VEVENT
DTSTART;VALUE=DATE:20250608
DTEND;VALUE=DATE:20250609
DTSTAMP:20260424T084933
CREATED:20250604T133020Z
LAST-MODIFIED:20250604T133020Z
UID:6697-1749340800-1749427199@cultura.riocuarto.gob.ar
SUMMARY:TEATRO PARA LAS INFANCIAS: LOS TÍTERES DEL CHIFLÓN
DESCRIPTION:Domingo 8 de junio. Galpón Blanco del C.C Andino. 16hs. Entrada a la gorra. \nComienza el inicio del Ciclo de teatro Todo el año en la Estación: Teatro para las infancias\, se presenta Teatro El Chiflón con Los Títeres del Chiflón. En este encuentro disfrutaremos de una varieté de títeres\, con nuestro presentador estrella El Señor Chiflón\, quien nos contará breves historias de los personajes que conforman su elenco. Música en vivo\, encuentros\, desencuentros y un maravilloso mundo lleno de sorpresas.
URL:https://cultura.riocuarto.gob.ar/event/teatro-para-las-infancias-los-titeres-del-chiflon/
CATEGORIES:GALPÓN BLANCO. C.C ANDINO
ATTACH;FMTTYPE=image/jpeg:https://cultura.riocuarto.gob.ar/wp-content/uploads/2025/06/titeres-e1749043727349.jpg
END:VEVENT
BEGIN:VEVENT
DTSTART;VALUE=DATE:20250612
DTEND;VALUE=DATE:20250613
DTSTAMP:20260424T084933
CREATED:20250421T151725Z
LAST-MODIFIED:20250421T151725Z
UID:5981-1749686400-1749772799@cultura.riocuarto.gob.ar
SUMMARY:CALÍGULA\, EL MUSICAL
DESCRIPTION:Jueves 12 de junio. Teatro Municipal. 21hs. Entradas: $35000-33000-30000. \nEn 1983\, la obra estrenó su versión original en los teatros de San Telmo\, con libro de Pepe Cibrián Campoy\, música de Martin Bianchedi y protagonizada por Cesar Pierri. Hoy\, 42 años después\, se vuelve a estrenar tal cual fuese estrenada por sus autores originales. \nLa obra narra la historia del poder absoluto y autocrático encarnado en la figura de Calígula. A través de su trama\, explora temas como la locura\, la miseria del pueblo\, la corrupción\, la intolerancia\, la opresión y la búsqueda de lo imposible. Además\, retrata la compleja relación entre dos hermanos\, Calígula y Drusila\, quienes ejercen una autoridad máxima sobre un pueblo y un imperio sometidos por el miedo. Como declara el protagonista al final de la obra: “Existo y existiré por los siglos de los siglos”.
URL:https://cultura.riocuarto.gob.ar/event/caligula-el-musical/
CATEGORIES:TEATRO MUNICIPAL
ATTACH;FMTTYPE=image/png:https://cultura.riocuarto.gob.ar/wp-content/uploads/2025/04/caligula_feed-e1745248628937.png
END:VEVENT
BEGIN:VEVENT
DTSTART;VALUE=DATE:20250612
DTEND;VALUE=DATE:20250616
DTSTAMP:20260424T084933
CREATED:20250602T144102Z
LAST-MODIFIED:20250605T133928Z
UID:6683-1749686400-1750031999@cultura.riocuarto.gob.ar
SUMMARY:2º ENCUENTRO REGIONAL DE TEATRO “EL SUR TAMBIÉN EXISTE”
DESCRIPTION:Del jueves 12 al domingo 15 de junio. Entrada libre y gratuita \nLa ciudad volverá a vibrar con el teatro del sur cordobés por la realización del 2º Encuentro Regional de Teatro “El Sur También Existe”\, que se llevará en distintos espacios culturales de la ciudad. \nEste evento artístico reúne a elencos\, directores y creadoras/es escénicas/os de diversas localidades del sur provincial con el objetivo de visibilizar y fortalecer la producción teatral de la región. Durante cuatro jornadas\, el público podrá disfrutar de una programación diversa que incluye obras contemporáneas\, versiones renovadas de clásicos y propuestas experimentales\, en un entorno de intercambio\, formación y celebración del arte teatral. \nLas funciones tendrán lugar en espacios emblemáticos de la ciudad como la Casa de la Cultura\, el Teatro Municipal\, el Teatrino de la Trapalanda\, el Centro Cultural Leonardo Favio\, Las Hijas de Susú y Mascaviento Teatro. Además\, se dictarán talleres de formación y se realizarán conversatorios abiertos que enriquecerán el diálogo entre artistas y comunidad. \nLa entrada es libre y gratuita para todas las actividades. \nInscripciones a talleres disponibles en: bit.ly/Talleres2doERTElSurTambiénExiste \nOrganizado por la Secretaría de Extensión y Desarrollo -Universidad Nacional de Río Cuarto\, la Delegación Regional de la Agencia Córdoba Cultura y la Subsecretaría de Cultura de la Municipalidad de Río Cuarto\, con la participación de elencos de los  Departamento Río Cuarto\, Juarez Celman\, Roque Saenz Peña y General Roca. \nProgramación \nJUEVES 12- 11hs. C.C. Leonardo Favio  \n“Mancha”. Basada en la obra original de Jorge Díaz “El Quijote no existe” \nAdolescencias y Adultos – 75 minutos \nLos Siete Locos\,  Mascaviento Teatro de Rio Cuarto \nLa obra es una deconstrucción irónica y crítica del mito de Don Quijote de la Mancha. A través de un enfoque metateatral y absurdo\, la obra explora la relación entre la realidad y la ficción\, la creación de los mitos\, y la búsqueda de sentido en un mundo desprovisto de ideales. \nUna obra hecha de collages\, superposiciones\, saltos temporales y otras rupturas que son ecos de episodios de la obra del Ingenioso Hidalgo. El juego dramático debate en torno a la dimensión literaria del flaco personaje. \nVIERNES 13-10hs. C.C. Leonardo Favio  \nFarsa del hombre que voló de Alfonso Zurro (versión libre) \nTodo público – 50 minutos \nMascaviento Teatro\,  Río Cuarto \nLos personajes de esta “farsa” están abocados a un deseo\, volar. Alzar el vuelo como un pájaro ha sido anhelo de la humanidad desde siempre. En tiempos lejanos un anciano “sabio” y su “criada” realizaron esa proeza mucho antes de la existencia de las máquinas voladoras. La fuerza de la imaginación\, la bondad y la picardía prometen una aventura divertida y profunda. La maravilla reside en hacer de un sueño\, una realidad. \nVIERNES 13-19hs. Teatrino  \nNido de Escorpiones de Marcelo Posada \nAdolescencias\, Adultos/as – 75 min aprox \nDeja Vu\,  de General Deheza \nSon tres historias diferentes que en un punto se unen. Tiene toques de comedia con un trasfondo dramático. El rector de un colegio\, muy severo con sus alumnos\, ha marcado tremendamente sus vidas. Éste rector tiene ciertos trastornos violentos que le generan satisfacción. Las historias personales de algunos de sus alumnos influyen en cada una de estas tres micro historias\, bañadas de resentimiento\, dolor\, contradictoriedad\, ironía\, etc. Este rector es el gran escorpión\, que ha generado pequeños nidos de escorpiones a su paso. \nVIERNES 13- 21hs. Mascaviento \nMonólogos: Delete y Perritas\,  Grupo de Teatro Universitario UNRC \nPúblico Adulto – 15 minutos \nVIERNES 13-21.30hs. Mascaviento \nEl umbral de los espectros  Creación colectiva basada en mitos urbanos \nTodo público – 40 minutos \nTaller Municipal de Teatro de Bengolea \n¿Mitos o historias increíbles? Relatos que circulan por los pueblos más pequeños y también por las grandes ciudades. ¿Existen los fantasmas o solo existen los relatos? \nSABADO 14-15hs. Teatro Municipal  \nAntígona Vélez de Leopoldo Marechal (Versión Danza-teatro) \nAdolescencias\, Adultos/as – 45 minutos \nInstituto Norma Fontenla\, Río Cuarto \nLa trama se desarrolla en la estancia La Postrera\, en plena llanura pampeana\, durante la época de la Conquista del Desierto. Ignacio Vélez\, hermano de Antígona\, abandona la civilización para unirse a los pueblos indígenas.  En un enfrentamiento bélico\, Ignacio y su hermano Martín mueren. Don Facundo Galván\, encargado de la estancia y figura de autoridad\, ordena que Martín sea enterrado con honores\, mientras que Ignacio\, considerado traidor\, debe quedar expuesto a las inclemencias del tiempo. Antígona desobedece esta orden y decide enterrar a su hermano\, desafiando la autoridad y enfrentándose a las consecuencias de su acto. \nSABADO 14-16.30hs. Las Hijas de Susú \nBajo Terapia de Matías del Federico \nAdultos/as/ 90 minutos \nEl Filodramatico de Cañada Verde\, Taller Municipal de Teatro de Villa Huidobro \nTres parejas acuden a terapia con la intención de tratar sus conflictos\, pero se encontrarán con una sesión más intensa de lo esperado. La psicóloga dejo sobres con consignas que las parejas tendrán que abordar y analizar entre todos. Cada sobre que se abre propone nuevos e ingeniosos interrogantes transformando la sesión en un caos desopilante. Bajo Terapia es una obra llena de conflictos inesperados\, con el humor como herramienta principal y en donde nada es lo que parece. Esta obra fue representada en varios países de América y de Europa. España realizo una versión cinematográfica y actualmente se filma también en Estados Unidos. \nSABADO 14-18.30hs. C.C. Leonardo Favio \nMade in Lanus de Nelly Fernández Tiscornia \nAdolescencias\, Adultos/as – 65 minutos \nTaller del Sur Laboulaye /General Levalle \nEs una obra que cuenta el regreso después de mucho tiempo de un matrimonio exiliado en EE UU durante la última dictadura militar y el reencuentro con sus familiares en Argentina \nSABADO 14-20hs. Teatro Municipal  \n“Todo el universo parece una tormenta infinita de belleza” Creación Colectiva \nTodo público – 30 minutos \nTaller de Teatro de adultos de “Las Hijas de Susú” de Río cuarto \nEl grupo de actrices y actores intervienen el espacio público con objetos y acciones; arman y desarman escenas\, juegan a inventar atmósferas\, provocan sentidos. Recrean situaciones atravesadas por lo simbólico y lo cotidiano. Las acciones pueden ser Caos y Orden\, juegos teatrales o escenas; terreno baldío u obra en construcción. El sentido\, los sentidos se completan con lxs espectadorxs\, transeúntes\, testigos de lo que está aconteciendo. \nSABADO 14-20.30hs. Teatro Municipal \nVenecia de Jorge Accame Todo público \n70 minutos Grupo Felix Iribarne Italó \nNunca dejemos de soñar \nDOMINGO 15-15hs. Teatro Municipal \nHilvanando Sueños de Creación Colectiva \nTodo público – 80 minutos \nTaller Municipal de Teatro de Adelia María \nEn una pintoresca tienda del pueblo\, las empleadas no dan más con su jefa\, Matilde\, una mujer exigente pero soñadora\, que guarda un secreto: está enamorada de José\, el dueño de la tienda. Mientras\, las trabajadoras hacen lo imposible para que ese amor no prospere —celosas\, intrigantes y siempre metidas en líos.\nEntre clientas insatisfechas\, vestidos rotos y pedidos insólitos\, todo se desborda cuando reaparece Silvestre\, el primer amor de Matilde. Enredos\, malentendidos y carcajadas tejen esta historia donde\, finalmente\, los sueños también se cosen con puntadas de amor. \nDOMINGO 15-16.30hs Teatrino  \nLos Opas de Daniel Dalmaroni \nAdultos/as -60 min \nLos inmejorables Río Cuarto \nTodo por mamá es una comedia de humor negro donde las hermanas se unen con el propósito de decidir qué hacer con su madre\, una anciana a la que deben mantener en un geriátrico. El cansancio\, los fracasos y postergaciones personales llevan a estas tres hermanas a elaborar un plan macabro\, que solo puede causar risas desde las situaciones más absurdas e inexplicables. \nDOMINGO 15-18hs. Teatro Municipal \nLa Fiaca de Ricardo Telesnik \nAdultos/as\, Todo público – 80 minutos \nTaller Municipal de Teatro de Adelia María \nLa Fiaca\, escrita por Ricardo Talesnik\, es una comedia dramática argentina que se estrenó en 1967. La obra gira en torno a Néstor Vignale\, un empleado modelo de una oficina que\, de manera inesperada\, un lunes por la mañana decide no ir a trabajar simplemente porque tiene “fiaca”\, es decir\, pereza o desgano.\nEste acto aparentemente simple y rebelde desencadena una serie de conflictos con su madre\, su novia Marta\, su jefe\, y la sociedad en general. Néstor comienza a cuestionar las rutinas\, las obligaciones laborales impuestas y el sentido de la vida moderna estructurada por normas sociales rígidas. La obra\, con tono irónico y humorístico\, se convierte en una crítica al sistema laboral\, al conformismo social y a la pérdida de libertad individual\, tocando temas que siguen siendo actuales. La “fiaca” de Néstor se transforma en una forma de protesta existencial\, revelando las tensiones entre el deseo personal y las exigencias sociales. \nDOMINGO 15-20hs. Mascaviento  \nLatido indómito de Mariela Araya \nPúblico Adulto – 40 minutos \nTaller Municipal de Teatro Adultos/as de Vicuña Mackenna \nLatido indómito es un texto poético que atraviesa a tres generaciones que habitan en un jardín simbólico entre rituales domésticos y mantras\, enfrentan sus miedos\, mandatos heredados y son reflejo de la otra. Martina\, Elena y Sofía siembran juntas preguntas\, sensibilidad y rebeldía atravesadas por el valor y la búsqueda interior. \nDOMINGO 15-20.45hs. Las Hijas de Susú \nMonólogos: Cintas y La Castración \nPúblico Adulto – 15 minutos – \nGrupo de Teatro Universitario UNRC \nDOMINGO 15-21hs. Las Hijas de Susú \nAchiras variete\,  Creación colectiva \nAdultos/as – 55 minutos \nGrupo Camiaré de Achiras \nVariedad de Sketch con un tema como hilo conductor del espectáculo.
URL:https://cultura.riocuarto.gob.ar/event/2o-encuentro-regional-de-teatro-el-sur-tambien-existe/
CATEGORIES:C.C. LEONARDO FAVIO,TEATRINO,TEATRO MUNICIPAL
ATTACH;FMTTYPE=image/jpeg:https://cultura.riocuarto.gob.ar/wp-content/uploads/2025/06/2do-ERT-1-e1748875210374.jpg
END:VEVENT
BEGIN:VEVENT
DTSTART;VALUE=DATE:20250613
DTEND;VALUE=DATE:20250614
DTSTAMP:20260424T084933
CREATED:20250515T150032Z
LAST-MODIFIED:20250604T162040Z
UID:6451-1749772800-1749859199@cultura.riocuarto.gob.ar
SUMMARY:EL FLACO PAILOS ES POLLERUDO
DESCRIPTION:Viernes 13 de junio. Teatro Municipal. 21.30hs. Entradas: $22000-20000-18000 \nEl reconocido humorista cordobés presenta un espectáculo de comedia lleno de risas y ocurrencias\, en el que comparte escenario con la talentosa comediante Carla Dogliani. Juntos exploran\, con ingenio y picardía\, las diferencias y similitudes entre hombres y mujeres.  Con un formato ágil y dinámico\, combina los clásicos chistes del Flaco con los divertidos personajes de Carla\, haciendo del público un cómplice en esta aventura humorística. ¡Una noche de carcajadas imperdible! \nhttps://cultura.riocuarto.gob.ar/wp-content/uploads/2025/05/Video-de-WhatsApp-2025-06-04-a-las-12.05.07_6a89fa24.mp4
URL:https://cultura.riocuarto.gob.ar/event/el-flaco-pailos-es-pollerudo/
CATEGORIES:TEATRO MUNICIPAL
ATTACH;FMTTYPE=image/png:https://cultura.riocuarto.gob.ar/wp-content/uploads/2025/05/pailos_pollerudo-e1747321223686.png
END:VEVENT
BEGIN:VEVENT
DTSTART;VALUE=DATE:20250615
DTEND;VALUE=DATE:20250616
DTSTAMP:20260424T084933
CREATED:20250612T133159Z
LAST-MODIFIED:20250612T133312Z
UID:6926-1749945600-1750031999@cultura.riocuarto.gob.ar
SUMMARY:CICLO DE TEATRO PARA LAS INFANCIAS: EL SUEÑO DE EZE
DESCRIPTION:Domingo 15 de junio. Galpón Blanco C.C. Andino. 17hs. A la gorra. \nEn el Ciclo de Teatro para las Infancias el grupo Retablo de las Maravillas presenta El sueño de Eze. \nReseña: Historia de un niño que a la hora de dormir se sumerge en un sueño que le dejará una lección de vida. Los caminos que elegir\, los problemas que afrontar y las reflexiones que tomar harán de esta historia un sinfín de sensaciones.
URL:https://cultura.riocuarto.gob.ar/event/ciclo-de-teatro-para-las-infancias-el-sueno-de-eze/
CATEGORIES:GALPÓN BLANCO. C.C ANDINO
ATTACH;FMTTYPE=image/jpeg:https://cultura.riocuarto.gob.ar/wp-content/uploads/2025/06/ciclo-infancias-e1749735106847.jpg
END:VEVENT
BEGIN:VEVENT
DTSTART;VALUE=DATE:20250622
DTEND;VALUE=DATE:20250623
DTSTAMP:20260424T084933
CREATED:20250522T145522Z
LAST-MODIFIED:20250522T145522Z
UID:6522-1750550400-1750636799@cultura.riocuarto.gob.ar
SUMMARY:TEATRO: DIFUNTA CORREA: LA MADRE DEL DESIERTO
DESCRIPTION:Domingo 22 de junio. Teatrino de la Trapalanda. 20hs. Entrada a la gorra \nEn el Ciclo Domingos de Teatro sube a escena la obra Difunta Correa\, la Madre del Desierto. \nEn la pieza\, Deolinda se lanza tras su deseo\, sosteniendo a su Bebo y pariendo al Desierto. La obra mira de frente al mito de la Difunta Correa encarnando la devoción y asumiendo las huellas del pasado vivido o escrito como vivido para mirarnos en el presente con ojos de mujer. El Bebo es un bebé en cuerpo de hombre que con balbuceante omnipresencia es la voz poderosa del Todo y relata con entusiasmo y crueldad el periplo de su madre buscando al padre ausente. El lenguaje\, cada palabra de esta obra\, es torsionada con alegría persistente a pesar de la inminente tragedia. Habla una mujer ardida en sed. Habla un bebé con el poder de una lengua sin nombre. La Madre del Desierto habla en nombre de los que duermen. Lejos de tintes trágicos\, la obra presenta un clima de gran vitalidad. Uno de los elementos más conmovedores y divertidos\, aunque desde siempre sepamos el triste final\, es la bravía ternura de la relación entre la madre y el hijo\, solos en la abrasante inmensidad. Misa pagana\, poesía plebeya\, intención de refundarnos en nuestros propios mitos\, esta obra busca volvernos fiesta\, pensamiento\, sed\, intervención\, tragedia y oportunidad. \nActúan: Carolina Britos\, Adrián Azaceta. Musicalización en vivo: Juan Iñaki\, Jenny Nager \nDiseño de vestuario y escenográfico: Agustín Betbeder. Diseño lumínico y escenográfico: Mercedes Chiodi. Dirección: Mery Palacios. Dramaturgia: Ignacio Bartolone. Fotografía: \nMery Palacios. Diseño gráfico: Jolpher Campos.
URL:https://cultura.riocuarto.gob.ar/event/teatro-difunta-correa-la-madre-del-desierto/
CATEGORIES:TEATRINO
ATTACH;FMTTYPE=image/jpeg:https://cultura.riocuarto.gob.ar/wp-content/uploads/2025/05/Difunta-correa-e1747925705630.jpg
END:VEVENT
BEGIN:VEVENT
DTSTART;VALUE=DATE:20250626
DTEND;VALUE=DATE:20250627
DTSTAMP:20260424T084933
CREATED:20250414T141326Z
LAST-MODIFIED:20250610T140541Z
UID:5868-1750896000-1750982399@cultura.riocuarto.gob.ar
SUMMARY:EL CUARTO DE VERÓNICA
DESCRIPTION:Jueves 26 de junio. Teatro Municipal. 21hs. Entradas: $35000-$33000-28000 \nLlega a la ciudad la exitosa obra de terror y suspenso que recorre el mundo. De Ira Levin. Con las actuaciones de Silvia Kutica\, Fabio Aste y gran elenco. \nSusan\, de 20 años\, es abordada mientras cena con su novio en un restaurante por una encantadora pareja de ancianos que se muestra impresionada por el parecido de Susan con Verónica\, fallecida hace mucho tiempo. Susan y su novio acompañan a la pareja hasta la mansión para ver el retrato de Verónica y comprobar el parecido. Allí comienza esta intrigante pesadilla con un final inesperado. \nApta para mayores de 13 años.
URL:https://cultura.riocuarto.gob.ar/event/el-cuarto-de-veronica/
CATEGORIES:TEATRO MUNICIPAL
ATTACH;FMTTYPE=image/png:https://cultura.riocuarto.gob.ar/wp-content/uploads/2025/04/El-cuarto-e1744639995687.png
END:VEVENT
END:VCALENDAR