BEGIN:VCALENDAR
VERSION:2.0
PRODID:-//Cultura Río Cuarto - ECPv6.15.20//NONSGML v1.0//EN
CALSCALE:GREGORIAN
METHOD:PUBLISH
X-ORIGINAL-URL:https://cultura.riocuarto.gob.ar
X-WR-CALDESC:Eventos para Cultura Río Cuarto
REFRESH-INTERVAL;VALUE=DURATION:PT1H
X-Robots-Tag:noindex
X-PUBLISHED-TTL:PT1H
BEGIN:VTIMEZONE
TZID:America/Argentina/Cordoba
BEGIN:STANDARD
TZOFFSETFROM:-0300
TZOFFSETTO:-0300
TZNAME:-03
DTSTART:20240101T000000
END:STANDARD
END:VTIMEZONE
BEGIN:VEVENT
DTSTART;VALUE=DATE:20250808
DTEND;VALUE=DATE:20250809
DTSTAMP:20260424T060629
CREATED:20250710T141308Z
LAST-MODIFIED:20250710T141308Z
UID:7617-1754611200-1754697599@cultura.riocuarto.gob.ar
SUMMARY:UNA CLASE ESPECIAL CON DAMIÁN DE SANTO Y MARTÍN SEEFELD
DESCRIPTION:Viernes 8 de agosto. Teatro Municipal. 21hs. Entradas: $37000-35000-32000 \nVuelve a la ciudad la exitosa obra teatral de Daniel Dátola\, protagonizada por los reconocidos actores argentinos Damián De Santo y Martín Seefeld y dirección de Manuel González Gil. \nSinopsis: Aquí Lalo\, un hombre introvertido\, inseguro\, fuera de época\, acaba de ser abandonado por su esposa después de muchos años de matrimonio\, pero está dispuesto a todo con tal de volver al ruedo. \nPara lograrlo contrata una clase con Leo – un reconocido maestro en seducción\, galán\, mujeriego\, carismático\, manipulador y autoproclamado el rey de la conquista\, que necesita dinero y decide aprovechar su experiencia dando clases de seducción en su departamento. Leo ve en Lalo una presa desesperada a quien será fácil quitarle dinero\, pero Lalo resulta un hueso difícil de roer. \nA lo largo de esta clase\, alumno y maestro explorarán juntos el engaño\, el abandono\, la venganza\, las relaciones y los recovecos de la mente masculina. Pero poco a poco la clase se irá complicando\, Leo recibe una llamada que lo altera todo\, los roles se invierten y el alumno ahora supera al maestro y así las risas y la comedia van creciendo en una clase donde no todo es lo que parece porque claramente el amor no se puede estudiar.
URL:https://cultura.riocuarto.gob.ar/event/una-clase-especial-con-damian-de-santo-y-martin-seefeld/
CATEGORIES:TEATRO MUNICIPAL
ATTACH;FMTTYPE=image/jpeg:https://cultura.riocuarto.gob.ar/wp-content/uploads/2025/07/FEED_CLASE_AGOSTO-e1752156777247.jpg
END:VEVENT
BEGIN:VEVENT
DTSTART;VALUE=DATE:20250808
DTEND;VALUE=DATE:20250809
DTSTAMP:20260424T060629
CREATED:20250804T145308Z
LAST-MODIFIED:20250804T145308Z
UID:8269-1754611200-1754697599@cultura.riocuarto.gob.ar
SUMMARY:TEATRO: AMISTADES ESPINOSAS y LA CASA DE BERNARDA ALBA 
DESCRIPTION:Viernes 8 de agosto. Teatrino de la Trapalanda. 20.30hs. Entrada gral. $8000 \nMuestra taller de teatro del Elenco Independiente de Comedias con las puestas de las obras Amistades espinosas de Daniel Provens y La casa de Bernardo Alba de Federico García Lorca. Dirección: Daniel Provens.
URL:https://cultura.riocuarto.gob.ar/event/teatro-amistades-espinosas-y-la-casa-de-bernarda-alba/
CATEGORIES:TEATRINO
ATTACH;FMTTYPE=image/jpeg:https://cultura.riocuarto.gob.ar/wp-content/uploads/2025/08/Provens-e1754319177489.jpg
END:VEVENT
BEGIN:VEVENT
DTSTART;VALUE=DATE:20250810
DTEND;VALUE=DATE:20250811
DTSTAMP:20260424T060629
CREATED:20250710T140552Z
LAST-MODIFIED:20250710T140552Z
UID:7614-1754784000-1754870399@cultura.riocuarto.gob.ar
SUMMARY:NO ME OLVIDES CON ARNALDO ANDRÉ Y SILVIA PÉREZ
DESCRIPTION:Domingo 10 de agosto. Teatro Municipal. 20hs. Entradas $30000-25000-18000 \nSube a escena la obra protagonizada por los destacados actores argentinos Arnaldo André y Silvia Pérez. \nSinopsis: Juani\, un viudo solitario de buen pasar económico\, visita un asilo para ver las instalaciones y mudarse cuando de pronto es interceptado por Beba\, una residente rebelde que busca escapar de su encierro y lo invita a un cita con el fin de enamorarlo y que la ayude a escapar. El único problema es que Juani tiene un Alzheimer especial y olvida los hechos recientes. Por lo cual Beba inventa un plan minucioso que le va a complicar las cosas más de lo que se imagina.
URL:https://cultura.riocuarto.gob.ar/event/no-me-olvides-con-arnaldo-andre-y-silvia-perez/
CATEGORIES:TEATRO MUNICIPAL
ATTACH;FMTTYPE=image/jpeg:https://cultura.riocuarto.gob.ar/wp-content/uploads/2025/07/feed_nomeolvides-e1752156340392.jpg
END:VEVENT
BEGIN:VEVENT
DTSTART;VALUE=DATE:20250822
DTEND;VALUE=DATE:20250823
DTSTAMP:20260424T060629
CREATED:20250813T133038Z
LAST-MODIFIED:20250813T133038Z
UID:8388-1755820800-1755907199@cultura.riocuarto.gob.ar
SUMMARY:TEATRO: TU CUNA FUE EL TANGO
DESCRIPTION:Viernes 22 de agosto. Teatrino de la Trapalanda. 21hs. Entrada gral. $10000. \nSube a escena la creación colectiva del Taller Municipal de Teatro\, dirigido por Laureano Cobos.
URL:https://cultura.riocuarto.gob.ar/event/teatro-tu-cuna-fue-el-tango/
CATEGORIES:TEATRINO
ATTACH;FMTTYPE=image/jpeg:https://cultura.riocuarto.gob.ar/wp-content/uploads/2025/08/Tu-cuna-fue-el-tango-e1755091832500.jpg
END:VEVENT
BEGIN:VEVENT
DTSTART;VALUE=DATE:20250823
DTEND;VALUE=DATE:20250824
DTSTAMP:20260424T060629
CREATED:20250808T125608Z
LAST-MODIFIED:20250808T125608Z
UID:8324-1755907200-1755993599@cultura.riocuarto.gob.ar
SUMMARY:TEATRO: ESPERANDO A GODOT
DESCRIPTION:Sábado 23 de agosto. Teatro Municipal. 21.30hs. Entrada gral. $15000 \nSube a escena la destacada obra de Samuel Beckett\, dirigida por Omar Rezk\, con las actuaciones de Cristian Durban\, Joaquín Rodríguez\, Jorge Molina\, I. Vicentini y David Ramondelli. \nEsperando a Godot es una de las obras más importantes de la llamada dramaturgia de posguerra. Escrita en francés\, la segunda lengua de Beckett\, a finales de la década del ’40\, fue publicada en 1952 y constituye una de las piezas fundamentales del teatro del absurdo.
URL:https://cultura.riocuarto.gob.ar/event/teatro-esperando-a-godot/
CATEGORIES:TEATRO MUNICIPAL
ATTACH;FMTTYPE=image/png:https://cultura.riocuarto.gob.ar/wp-content/uploads/2025/08/Godot-e1754657759301.png
END:VEVENT
END:VCALENDAR