BEGIN:VCALENDAR
VERSION:2.0
PRODID:-//Cultura Río Cuarto - ECPv6.15.20//NONSGML v1.0//EN
CALSCALE:GREGORIAN
METHOD:PUBLISH
X-ORIGINAL-URL:https://cultura.riocuarto.gob.ar
X-WR-CALDESC:Eventos para Cultura Río Cuarto
REFRESH-INTERVAL;VALUE=DURATION:PT1H
X-Robots-Tag:noindex
X-PUBLISHED-TTL:PT1H
BEGIN:VTIMEZONE
TZID:America/Argentina/Cordoba
BEGIN:STANDARD
TZOFFSETFROM:-0300
TZOFFSETTO:-0300
TZNAME:-03
DTSTART:20240101T000000
END:STANDARD
END:VTIMEZONE
BEGIN:VEVENT
DTSTART;VALUE=DATE:20250713
DTEND;VALUE=DATE:20250714
DTSTAMP:20260424T085346
CREATED:20250702T000349Z
LAST-MODIFIED:20250702T000349Z
UID:7337-1752364800-1752451199@cultura.riocuarto.gob.ar
SUMMARY:✨PARA LAS INFANCIAS: APRENDAMOS EXPLORANDO 🎉
DESCRIPTION:El espectáculo infantil musical que divierte a niños y grandes\, llega en el marco de su exitosa gira nacional con un show renovado \n📅 Domingo 13 de julio. 17hs. 📍 Viejo Mercado. 🎟️ Entradas: ya disponibles en la web de autoentrada.com y en la boletería del teatro 👉 Luego de un 2024 batiendo records en todo el país\, vuelve con nuevos musicales… un show diferente\, pero con la calidad que El Explorador nos tiene acostumbrados.Con una brillante actuación de Rodri Esmella (aclamado por la crítica) en el rol del explorador y un gran elenco.Aprendamos explorando logra atrapar al espectador con un imponente despliegue escénico\, musicales educativos\, efectos especiales. Logrando un show lúdico\, con dosis de comicidad que\, no solo deslumbra a los más pequeños\, sino que mantiene entretenida a toda la familia\, de principio a fin. \nEntradas: https://ventas.autoentrada.com/events/aprendamos-explorando
URL:https://cultura.riocuarto.gob.ar/event/%e2%9c%a8para-las-infancias-aprendamos-explorando-%f0%9f%8e%89/
CATEGORIES:TEATRO MUNICIPAL
ATTACH;FMTTYPE=image/jpeg:https://cultura.riocuarto.gob.ar/wp-content/uploads/2025/07/autoentrada_explorandoexplorando-e1751414618127.jpg
END:VEVENT
END:VCALENDAR