BEGIN:VCALENDAR
VERSION:2.0
PRODID:-//Cultura Río Cuarto - ECPv6.15.20//NONSGML v1.0//EN
CALSCALE:GREGORIAN
METHOD:PUBLISH
X-ORIGINAL-URL:https://cultura.riocuarto.gob.ar
X-WR-CALDESC:Eventos para Cultura Río Cuarto
REFRESH-INTERVAL;VALUE=DURATION:PT1H
X-Robots-Tag:noindex
X-PUBLISHED-TTL:PT1H
BEGIN:VTIMEZONE
TZID:America/Argentina/Cordoba
BEGIN:STANDARD
TZOFFSETFROM:-0300
TZOFFSETTO:-0300
TZNAME:-03
DTSTART:20240101T000000
END:STANDARD
END:VTIMEZONE
BEGIN:VEVENT
DTSTART;VALUE=DATE:20250912
DTEND;VALUE=DATE:20250913
DTSTAMP:20260424T061243
CREATED:20250905T123205Z
LAST-MODIFIED:20250905T123205Z
UID:8821-1757635200-1757721599@cultura.riocuarto.gob.ar
SUMMARY:MUESTRA TALLER DE TEATRO
DESCRIPTION:Viernes 12 de septiembre. Teatrino de la Trapalanda. 20.30hs. Entrada gral. $8000. \nEl Elenco Independiente de Comedias sube a escena las obras Amistades espinosas y La Casa de Bernarda Alba\, obras de autor: Federico García Lorca-Daniel Provens. Dirección: Daniel Provens. Actúan: Susana Carbonari\, Elvira Ottani\, Nancy Flores\, Liliana Rivera\, Alejandra Menossi\, Marisa Rossi\, Patricia Roveres\, Laura Ossana\, Evelyn Nuñez\, Alejandra Chavero\, Viviana Aralles.
URL:https://cultura.riocuarto.gob.ar/event/muestra-taller-de-teatro/
CATEGORIES:TEATRINO
ATTACH;FMTTYPE=image/jpeg:https://cultura.riocuarto.gob.ar/wp-content/uploads/2025/09/MUESTRA-TALLER_FEDD-e1757075494694.jpg
END:VEVENT
END:VCALENDAR