BEGIN:VCALENDAR
VERSION:2.0
PRODID:-//Cultura Río Cuarto - ECPv6.15.20//NONSGML v1.0//EN
CALSCALE:GREGORIAN
METHOD:PUBLISH
X-WR-CALNAME:Cultura Río Cuarto
X-ORIGINAL-URL:https://cultura.riocuarto.gob.ar
X-WR-CALDESC:Eventos para Cultura Río Cuarto
REFRESH-INTERVAL;VALUE=DURATION:PT1H
X-Robots-Tag:noindex
X-PUBLISHED-TTL:PT1H
BEGIN:VTIMEZONE
TZID:America/Argentina/Cordoba
BEGIN:STANDARD
TZOFFSETFROM:-0300
TZOFFSETTO:-0300
TZNAME:-03
DTSTART:20240101T000000
END:STANDARD
END:VTIMEZONE
BEGIN:VEVENT
DTSTART;VALUE=DATE:20250918
DTEND;VALUE=DATE:20250919
DTSTAMP:20260424T060910
CREATED:20250710T135900Z
LAST-MODIFIED:20250710T135900Z
UID:7611-1758153600-1758239999@cultura.riocuarto.gob.ar
SUMMARY:EL HOMBRE INESPERADO CON GERMÁN PALACIOS E INÉS ESTÉVEZ
DESCRIPTION:Jueves 18 de septiembre. Teatro Municipal. 21.30hs. Entradas: $37000-35000-33000 \nSube a escena la obra de teatro escrita por Yasmina Reza\, protagonizada por los reconocidos actores Germán Palacios e Inés Estévez\, y dirigida por ambos actores. \nUn viaje en tren que va de París a Frankfurt y solo dos personajes que comparten un camarote\, pero no se conocen\, conforman el núcleo dramático de la prestigiosa autora. El\, es un reconocido escritor y ella\, se descubrirá después\, una de sus admiradoras. Lo curioso es que a Yasmina Reza no le interesa construir una relación amable entre ellos\, sino abrir dos grandes interrogantes: ¿qué sucedería si ambos toman contacto\, se presentan y entablan una mínima conversación? ¿Realmente eso sería efectivo? El hombre inesperado no es un material sencillo de llevar a escena. Dos personajes que piensan en voz alta\, que no se conectan… Ello imposibilita ir dando forma a una teatralidad intensa y da como resultado una difícil llegada al espectador. Los protagonistas apenas se mueven en el espacio. La historia\, aunque con toques de absurdo\, posee cierta riqueza y solo se engrandecerá si el cuerpo de sus intérpretes encuentra la energía necesaria para hacer que resulte apasionante y en particular provocadora. Esto le permitiría al público reflexionar acerca de un creador y su obra\, una lectora y su fascinación por las historias que él concibe. Una pregunta queda latente: ¿hasta dónde una narración puede modificar o transformar la manera de analizar quiénes somos?
URL:https://cultura.riocuarto.gob.ar/event/el-hombre-inesperado-con-german-palacios-e-ines-estevez/
CATEGORIES:TEATRO MUNICIPAL
ATTACH;FMTTYPE=image/png:https://cultura.riocuarto.gob.ar/wp-content/uploads/2025/07/elhombreinesperado-e1752155927704.png
END:VEVENT
END:VCALENDAR