BEGIN:VCALENDAR
VERSION:2.0
PRODID:-//Cultura Río Cuarto - ECPv6.15.20//NONSGML v1.0//EN
CALSCALE:GREGORIAN
METHOD:PUBLISH
X-WR-CALNAME:Cultura Río Cuarto
X-ORIGINAL-URL:https://cultura.riocuarto.gob.ar
X-WR-CALDESC:Eventos para Cultura Río Cuarto
REFRESH-INTERVAL;VALUE=DURATION:PT1H
X-Robots-Tag:noindex
X-PUBLISHED-TTL:PT1H
BEGIN:VTIMEZONE
TZID:America/Argentina/Cordoba
BEGIN:STANDARD
TZOFFSETFROM:-0300
TZOFFSETTO:-0300
TZNAME:-03
DTSTART:20240101T000000
END:STANDARD
END:VTIMEZONE
BEGIN:VEVENT
DTSTART;VALUE=DATE:20251005
DTEND;VALUE=DATE:20251006
DTSTAMP:20260424T044725
CREATED:20250926T132255Z
LAST-MODIFIED:20250926T132255Z
UID:9207-1759622400-1759708799@cultura.riocuarto.gob.ar
SUMMARY:TEATRO: PAJARO CRIOLLO
DESCRIPTION:Domingo 5 de octubre. Teatrino de la Trapalanda. 19hs. Entrada a la gorra \nEn el ciclo Domingos de Teatro sube a escena la obra protagonizada por Antonela Rimoldi bajo la dirección de Stefania Rossi. \nBiografía ficcional de la actriz y aviadora Myriam Stefford. Sinopsis: una actriz intentará despegar desde el escenario ¿Qué hace falta para volar? ¿Qué hace falta para actuar?\, el plan: cubrir 4100 km\, unir 14 provincias argentinas. El aterrizaje forzoso es inminente y está anunciado. Morir en San Juan. La obra es una activación escénica y performática del archivo periodístico y fotográfico sobre la actriz y aviadora Miryam Stefford. \nEntrenamiento: Agustina Chiarella. Proyecciones: Hernán Rimoldi. Música original: Mauro Audisio. Maquillaje: Carla Pérez.
URL:https://cultura.riocuarto.gob.ar/event/teatro-pajaro-criollo/
CATEGORIES:TEATRINO
ATTACH;FMTTYPE=image/jpeg:https://cultura.riocuarto.gob.ar/wp-content/uploads/2025/09/PAJARO-CRIOLLO-e1758892967471.jpg
END:VEVENT
END:VCALENDAR