BEGIN:VCALENDAR
VERSION:2.0
PRODID:-//Cultura Río Cuarto - ECPv6.15.20//NONSGML v1.0//EN
CALSCALE:GREGORIAN
METHOD:PUBLISH
X-WR-CALNAME:Cultura Río Cuarto
X-ORIGINAL-URL:https://cultura.riocuarto.gob.ar
X-WR-CALDESC:Eventos para Cultura Río Cuarto
REFRESH-INTERVAL;VALUE=DURATION:PT1H
X-Robots-Tag:noindex
X-PUBLISHED-TTL:PT1H
BEGIN:VTIMEZONE
TZID:America/Argentina/Cordoba
BEGIN:STANDARD
TZOFFSETFROM:-0300
TZOFFSETTO:-0300
TZNAME:-03
DTSTART:20240101T000000
END:STANDARD
END:VTIMEZONE
BEGIN:VEVENT
DTSTART;VALUE=DATE:20251031
DTEND;VALUE=DATE:20251101
DTSTAMP:20260424T034447
CREATED:20251027T154250Z
LAST-MODIFIED:20251027T154250Z
UID:9695-1761868800-1761955199@cultura.riocuarto.gob.ar
SUMMARY:TEATRO: TRES OBRAS\, TRES EMOCIONES
DESCRIPTION:Viernes 31 de octubre. Teatrino de la Trapalanda. 21.30hs. Entrada gral. $10.000. \nEl grupo de Teatro Utopía la creación colectiva con dirección de Eduardo Rubén Vicente. Tres pequeñas obras en un solo espectáculo. Apta para mayores de 13 años
URL:https://cultura.riocuarto.gob.ar/event/teatro-tres-obras-tres-emociones-2/
CATEGORIES:TEATRINO
ATTACH;FMTTYPE=image/jpeg:https://cultura.riocuarto.gob.ar/wp-content/uploads/2025/10/TRES-OBRAS-e1761579761202.jpg
END:VEVENT
END:VCALENDAR