BEGIN:VCALENDAR
VERSION:2.0
PRODID:-//Cultura Río Cuarto - ECPv6.15.20//NONSGML v1.0//EN
CALSCALE:GREGORIAN
METHOD:PUBLISH
X-WR-CALNAME:Cultura Río Cuarto
X-ORIGINAL-URL:https://cultura.riocuarto.gob.ar
X-WR-CALDESC:Eventos para Cultura Río Cuarto
REFRESH-INTERVAL;VALUE=DURATION:PT1H
X-Robots-Tag:noindex
X-PUBLISHED-TTL:PT1H
BEGIN:VTIMEZONE
TZID:America/Argentina/Cordoba
BEGIN:STANDARD
TZOFFSETFROM:-0300
TZOFFSETTO:-0300
TZNAME:-03
DTSTART:20240101T000000
END:STANDARD
END:VTIMEZONE
BEGIN:VEVENT
DTSTART;VALUE=DATE:20251128
DTEND;VALUE=DATE:20251129
DTSTAMP:20260424T034446
CREATED:20251117T142007Z
LAST-MODIFIED:20251126T142334Z
UID:10295-1764288000-1764374399@cultura.riocuarto.gob.ar
SUMMARY:TEATRO: ESOS TROPIEZOS DEL AMOR
DESCRIPTION:Viernes 28 de noviembre. Teatrino de la Trapalanda. 21hs. Entrada gral. $9000. \nPresentación de la muestra anual del taller de Teatro del Elenco de Comedias Independiente\, grupo Moliere\, dirigido por Daniel Provens. \nUna comedia romántica y divertida. Actúan: Esneyder Rodríguez\, Luciana Rapari\, Nico Pra\, Daniela Santa\, Emilia Cormick\, Nati Castagnari\, Ivanna Magris\, Paula Pistoya\, Mara Rodríguez\, Ariana Spina\, Ariel Drovetta\, Maria Dolso. Libro\, producción y dirección general: Daniel Provens.
URL:https://cultura.riocuarto.gob.ar/event/teatro-esos-tropiezos-del-amor/
CATEGORIES:TEATRINO
ATTACH;FMTTYPE=image/jpeg:https://cultura.riocuarto.gob.ar/wp-content/uploads/2025/11/TROPIEZOS-1-e1764167006691.jpg
END:VEVENT
END:VCALENDAR