BEGIN:VCALENDAR
VERSION:2.0
PRODID:-//Cultura Río Cuarto - ECPv6.15.20//NONSGML v1.0//EN
CALSCALE:GREGORIAN
METHOD:PUBLISH
X-WR-CALNAME:Cultura Río Cuarto
X-ORIGINAL-URL:https://cultura.riocuarto.gob.ar
X-WR-CALDESC:Eventos para Cultura Río Cuarto
REFRESH-INTERVAL;VALUE=DURATION:PT1H
X-Robots-Tag:noindex
X-PUBLISHED-TTL:PT1H
BEGIN:VTIMEZONE
TZID:America/Argentina/Cordoba
BEGIN:STANDARD
TZOFFSETFROM:-0300
TZOFFSETTO:-0300
TZNAME:-03
DTSTART:20240101T000000
END:STANDARD
END:VTIMEZONE
BEGIN:VEVENT
DTSTART;VALUE=DATE:20251207
DTEND;VALUE=DATE:20251208
DTSTAMP:20260424T023211
CREATED:20251201T163104Z
LAST-MODIFIED:20251201T163104Z
UID:10663-1765065600-1765151999@cultura.riocuarto.gob.ar
SUMMARY:TEATRO: ESOS TROPIEZOS DEL AMOR
DESCRIPTION:Domingo 7 de diciembre. Teatrino de la Trapalanda. 20.30hs. Entrada gral. $9000. \nNueva presentación de la muestra anual del taller de Teatro del Elenco de Comedias Independiente\, grupo Moliere\, dirigido por Daniel Provens. \nUna comedia romántica y divertida. Actúan: Esneyder Rodríguez\, Luciana Rapari\, Nico Pra\, Daniela Santa\, Emilia Cormick\, Nati Castagnari\, Ivanna Magris\, Paula Pistoya\, Mara Rodríguez\, Ariana Spina\, Ariel Drovetta\, Maria Dolso. Libro\, producción y dirección general: Daniel Provens.
URL:https://cultura.riocuarto.gob.ar/event/teatro-esos-tropiezos-del-amor-2/
CATEGORIES:TEATRINO
ATTACH;FMTTYPE=image/jpeg:https://cultura.riocuarto.gob.ar/wp-content/uploads/2025/12/Esos-tropiezos-del-amor-e1764606654694.jpg
END:VEVENT
END:VCALENDAR